BEGIN:VCALENDAR
VERSION:2.0
PRODID:-//HOME FASHION TRENDS - ECPv6.15.20//NONSGML v1.0//EN
CALSCALE:GREGORIAN
METHOD:PUBLISH
X-WR-CALNAME:HOME FASHION TRENDS
X-ORIGINAL-URL:https://thehomefashion.in
X-WR-CALDESC:Events for HOME FASHION TRENDS
REFRESH-INTERVAL;VALUE=DURATION:PT1H
X-Robots-Tag:noindex
X-PUBLISHED-TTL:PT1H
BEGIN:VTIMEZONE
TZID:Asia/Kolkata
BEGIN:STANDARD
TZOFFSETFROM:+0530
TZOFFSETTO:+0530
TZNAME:IST
DTSTART:20240101T000000
END:STANDARD
END:VTIMEZONE
BEGIN:VEVENT
DTSTART;TZID=Asia/Kolkata:20250826T090000
DTEND;TZID=Asia/Kolkata:20250829T170000
DTSTAMP:20260424T020944
CREATED:20250728T100035Z
LAST-MODIFIED:20250728T100035Z
UID:54454-1756198800-1756486800@thehomefashion.in
SUMMARY:VIFA ASEAN 2025 Set to Host 350 Global Furniture Brands
DESCRIPTION:VIFA ASEAN 2025\, one of Southeast Asia’s most influential export-import furniture exhibitions\, is scheduled to take place from August 26–29\, 2025\, at the Saigon Exhibition and Convention Center (SECC). \nThis highly anticipated trade event is expected to host 350 furniture exhibitors\, collectively presenting over 1\,000 booths that will showcase the latest innovations in residential\, commercial\, and contract furniture. \nPositioned as a dynamic sourcing hub for Vietnamese and ASEAN-based manufacturers\, VIFA ASEAN 2025 is an essential platform for industry professionals seeking strategic partnerships. The show will attract a wide range of global buyers\, importers\, project developers\, contractors\, and investors\, looking to engage with the region’s booming furniture and construction market. \nBacked by Vietnam’s growing stature as a key furniture production hub\, the expo will also highlight sustainable\, design-led\, and export-ready products\, while promoting international collaboration.
URL:https://thehomefashion.in/event/vifa-asean-2025-set-to-host-350-global-furniture-brands/
LOCATION:Saigon Exhibition & Convention Center Ho Chi Minh City Viet Nam\, Viet Nam
CATEGORIES:event updates
ATTACH;FMTTYPE=image/png:https://thehomefashion.in/wp-content/uploads/2025/07/HFT-123-54-3.png
END:VEVENT
END:VCALENDAR