BEGIN:VCALENDAR
VERSION:2.0
PRODID:-//HOME FASHION TRENDS - ECPv6.15.13.1//NONSGML v1.0//EN
CALSCALE:GREGORIAN
METHOD:PUBLISH
X-WR-CALNAME:HOME FASHION TRENDS
X-ORIGINAL-URL:https://thehomefashion.in
X-WR-CALDESC:Events for HOME FASHION TRENDS
REFRESH-INTERVAL;VALUE=DURATION:PT1H
X-Robots-Tag:noindex
X-PUBLISHED-TTL:PT1H
BEGIN:VTIMEZONE
TZID:Asia/Kolkata
BEGIN:STANDARD
TZOFFSETFROM:+0530
TZOFFSETTO:+0530
TZNAME:IST
DTSTART:20250101T000000
END:STANDARD
END:VTIMEZONE
BEGIN:VEVENT
DTSTART;TZID=Asia/Kolkata:20260407T080000
DTEND;TZID=Asia/Kolkata:20260512T170000
DTSTAMP:20260421T012329
CREATED:20260331T075947Z
LAST-MODIFIED:20260331T075947Z
UID:64261-1775548800-1778605200@thehomefashion.in
SUMMARY:Salone del Mobile Milano 2026 – International Furniture Fair
DESCRIPTION:Salone del Mobile Milano 2026 is the world’s most prestigious furniture and interior design exhibition\, held annually in Milan\, Italy. Recognized as a global benchmark for innovation and creativity in the design industry\, the event brings together leading furniture brands\, designers\, architects\, and design enthusiasts from across the world. It serves as a platform where cutting-edge design concepts\, luxury interiors\, and advanced materials are showcased to a global audience. \nThe exhibition features a wide range of products including contemporary and classic furniture\, lighting solutions\, home décor accessories\, kitchen designs\, and interior furnishings. Many internationally renowned brands launch their latest collections during the event\, making it a key destination for discovering upcoming trends in interior design. The fair also emphasizes sustainability\, with exhibitors presenting eco-friendly materials and innovative production techniques. \nAlongside the exhibition\, the event hosts design talks\, workshops\, and installations that explore themes such as smart living\, urban design\, and the future of interior spaces. Designers and architects attend to gain inspiration and establish global collaborations. \nSalone del Mobile Milano continues to influence the global design industry by setting trends and promoting creativity\, making it an essential event for professionals in furniture\, interior design\, and architecture.
URL:https://thehomefashion.in/event/salone-del-mobile-milano-2026-international-furniture-fair/
LOCATION:Fiera Milano\, Milan\, Italy\, Italy
CATEGORIES:home decor
END:VEVENT
BEGIN:VEVENT
DTSTART;VALUE=DATE:20260418
DTEND;VALUE=DATE:20260423
DTSTAMP:20260421T012329
CREATED:20260313T062702Z
LAST-MODIFIED:20260313T062702Z
UID:62067-1776470400-1776902399@thehomefashion.in
SUMMARY:High Point Market Spring 2026
DESCRIPTION:High Point Market Spring 2026 is one of the largest home furnishings trade shows in the world. The event gathers furniture manufacturers\, interior designers\, retailers\, and architects from across the globe. Exhibitors present new furniture collections\, home decor accessories\, lighting products\, and textile furnishings. The market serves as an important platform for product launches and design trend forecasts. Designers attend to discover materials and styles shaping residential interiors. Buyers explore sourcing opportunities for retail and hospitality projects. Educational seminars provide insights into merchandising\, design innovation\, and sustainability. The event also features artisan decor and handcrafted furniture pieces. Networking opportunities connect suppliers\, designers\, and buyers. High Point Market plays a major role in shaping the global home decor industry.
URL:https://thehomefashion.in/event/high-point-market-spring-2026/
LOCATION:High Point Market Authority Showrooms\, High Point\, 27260\, United States
CATEGORIES:home decor
ATTACH;FMTTYPE=image/png:https://thehomefashion.in/wp-content/uploads/2026/03/HPMKT_Logo_2026.png
END:VEVENT
BEGIN:VEVENT
DTSTART;TZID=Asia/Kolkata:20260418T080000
DTEND;TZID=Asia/Kolkata:20260422T170000
DTSTAMP:20260421T012329
CREATED:20260326T033829Z
LAST-MODIFIED:20260326T033829Z
UID:63450-1776499200-1776877200@thehomefashion.in
SUMMARY:High Point Market (Spring) 2026
DESCRIPTION:High Point Market Spring 2026 is one of the largest furnishings and home décor trade shows in the world. The event brings together manufacturers\, designers\, and buyers to explore the latest trends in furniture and interior design. \nThe exhibition showcases a wide range of products including home furnishings\, textiles\, décor\, and lighting. It highlights design innovation\, craftsmanship\, and market trends. \nAttendees can explore showrooms\, attend educational sessions\, and network with industry professionals. The event plays a key role in shaping global furniture and interior design markets. \nHigh Point Market is considered a must-attend event for professionals in home décor and interior design industries
URL:https://thehomefashion.in/event/high-point-market-spring-2026-4/
LOCATION:High Point\, North Carolina\, USA\, United States
CATEGORIES:home decor,Interior Design
END:VEVENT
BEGIN:VEVENT
DTSTART;TZID=Asia/Kolkata:20260418T080000
DTEND;TZID=Asia/Kolkata:20260423T170000
DTSTAMP:20260421T012329
CREATED:20260326T033443Z
LAST-MODIFIED:20260326T033443Z
UID:63445-1776499200-1776963600@thehomefashion.in
SUMMARY:London Craft Week 2026
DESCRIPTION:London Craft Week 2026 is a prestigious event celebrating craftsmanship\, design\, and creativity across multiple disciplines. The event showcases both traditional and contemporary crafts\, including textiles\, furniture\, and decorative arts. \nHeld across various venues in London\, the event features exhibitions\, workshops\, and live demonstrations. It brings together artisans\, designers\, and brands to highlight the importance of craftsmanship in modern design. \nVisitors can explore handmade products\, interact with creators\, and gain insights into techniques and materials. The event emphasizes sustainability\, heritage skills\, and innovation in craft industries. \nLondon Craft Week serves as a platform for promoting global craftsmanship and connecting designers with audiences.
URL:https://thehomefashion.in/event/london-craft-week-2026-2/
LOCATION:London\, UK\, United Kingdom
CATEGORIES:handicraft,Handloom
END:VEVENT
BEGIN:VEVENT
DTSTART;VALUE=DATE:20260420
DTEND;VALUE=DATE:20260424
DTSTAMP:20260421T012329
CREATED:20260309T153054Z
LAST-MODIFIED:20260309T153054Z
UID:61746-1776643200-1776988799@thehomefashion.in
SUMMARY:Hong Kong International Home Textiles and Furnishings Fair 2026
DESCRIPTION:Hong Kong International Home Textiles and Furnishings Fair 2026 is a leading trade exhibition dedicated to home textile products and decorative furnishings. The event gathers manufacturers\, suppliers\, designers\, and buyers from across Asia and other global markets. Exhibitors present a wide range of textile products including bedding\, curtains\, upholstery fabrics\, rugs\, and decorative accessories. The fair highlights innovative materials\, eco-friendly fabrics\, and contemporary interior design concepts. Buyers attend the exhibition to source new products and connect with international suppliers. Designers explore emerging patterns\, textures\, and fabric technologies influencing global home decor trends. The event also provides networking opportunities through seminars and business matchmaking programs. Industry experts discuss market developments in the home textile sector. The exhibition plays an important role in connecting Asian manufacturers with global retail and hospitality markets. It is considered a major sourcing hub for the home furnishing industry.
URL:https://thehomefashion.in/event/hong-kong-international-home-textiles-and-furnishings-fair-2026/
LOCATION:Hong Kong Convention and Exhibition Centre\, Hong Kong
CATEGORIES:home textiles
ATTACH;FMTTYPE=image/webp:https://thehomefashion.in/wp-content/uploads/2026/03/1470x280-HTEEN.webp
END:VEVENT
BEGIN:VEVENT
DTSTART;VALUE=DATE:20260420
DTEND;VALUE=DATE:20260427
DTSTAMP:20260421T012329
CREATED:20260313T150834Z
LAST-MODIFIED:20260313T150834Z
UID:62121-1776643200-1777247999@thehomefashion.in
SUMMARY:Milan Design Week 2026
DESCRIPTION:Milan Design Week 2026 is one of the most influential global events dedicated to design\, architecture\, and interior innovation. The event takes place across Milan with exhibitions\, installations\, and product launches. Designers\, architects\, and manufacturers present new furniture collections and decor concepts. Visitors explore innovative materials\, lighting solutions\, and interior styling trends. Creative installations transform public spaces and galleries into design showcases. Industry professionals attend to discover emerging designers and design technologies. Educational programs and talks discuss the future of architecture and interior design. Designers collaborate with artisans to present experimental decor pieces. The event attracts international buyers and design enthusiasts. Milan Design Week plays a major role in shaping global design trends.
URL:https://thehomefashion.in/event/milan-design-week-2026/
LOCATION:Various Design Venues Milan\, Milan\, 20121\, Italy
CATEGORIES:Interior Design
END:VEVENT
BEGIN:VEVENT
DTSTART;TZID=Asia/Kolkata:20260420T080000
DTEND;TZID=Asia/Kolkata:20260426T170000
DTSTAMP:20260421T012329
CREATED:20260326T033137Z
LAST-MODIFIED:20260326T033137Z
UID:63441-1776672000-1777222800@thehomefashion.in
SUMMARY:Fuorisalone (Milan Design Week) 2026
DESCRIPTION:Fuorisalone 2026 is a city-wide series of design events\, exhibitions\, and installations held across Milan during Milan Design Week. It complements the globally renowned Salone del Mobile and features independent designers\, brands\, and creative studios. \nThe event showcases a wide range of design disciplines including interior design\, furniture\, lighting\, and home décor. It transforms various locations across the city—such as galleries\, showrooms\, and public spaces—into immersive design experiences. \nVisitors can explore innovative concepts\, attend exhibitions\, and engage with designers from around the world. The event highlights emerging trends\, sustainability\, and experimental design approaches. \nFuorisalone is considered one of the most influential design platforms globally\, attracting professionals and enthusiasts alike.
URL:https://thehomefashion.in/event/fuorisalone-milan-design-week-2026/
LOCATION:Multiple venues across Milan\, Italy\, Italy
CATEGORIES:home decor,Interior Design
END:VEVENT
BEGIN:VEVENT
DTSTART;VALUE=DATE:20260421
DTEND;VALUE=DATE:20260427
DTSTAMP:20260421T012329
CREATED:20260309T152628Z
LAST-MODIFIED:20260309T152628Z
UID:61740-1776729600-1777247999@thehomefashion.in
SUMMARY:Salone del Mobile Milano 2026
DESCRIPTION:Salone del Mobile Milano 2026 is one of the most influential international exhibitions dedicated to furniture\, interior design\, and home decor innovation. The event attracts architects\, designers\, manufacturers\, and retailers from around the world. Thousands of brands showcase furniture collections\, decorative elements\, lighting solutions\, and textile designs for residential and commercial spaces. The exhibition serves as a global stage for presenting new design concepts and sustainable materials. Special installations and curated exhibitions highlight emerging designers and artisan craftsmanship. Visitors explore pavilions dedicated to interior architecture\, decor trends\, and contemporary home solutions. Industry professionals attend the event to discover design innovations and build international business partnerships. The event is also known for its cultural programs and design talks featuring leading architects and creatives. It plays a key role in shaping global design trends every year. Salone del Mobile remains a cornerstone event for the global interior design and home furnishing industry
URL:https://thehomefashion.in/event/salone-del-mobile-milano-2026/
LOCATION:Fiera Milano Rho\, Milan\, 20017\, Italy
CATEGORIES:Interior Design
ATTACH;FMTTYPE=image/jpeg:https://thehomefashion.in/wp-content/uploads/2026/03/download.jpg
END:VEVENT
BEGIN:VEVENT
DTSTART;VALUE=DATE:20260421
DTEND;VALUE=DATE:20260427
DTSTAMP:20260421T012329
CREATED:20260314T041046Z
LAST-MODIFIED:20260314T041046Z
UID:62166-1776729600-1777247999@thehomefashion.in
SUMMARY:Salone del Mobile Milano 2026
DESCRIPTION:Salone del Mobile Milano 2026 is one of the world’s most influential furniture and interior design exhibitions. The event gathers architects\, designers\, and furniture manufacturers from around the globe. Exhibitors present innovative furniture collections\, lighting solutions\, and decorative interior products. The exhibition serves as a global platform for launching new design concepts and materials. Visitors can explore design installations and themed exhibitions highlighting emerging trends in interior styling. The event also includes discussions and design talks featuring leading architects and creatives. Designers attend to discover innovative furniture materials and decor ideas. Buyers and retailers source products for international markets. The exhibition contributes significantly to shaping global design trends each year. Salone del Mobile remains a cornerstone event for the international furniture and interior design industry.
URL:https://thehomefashion.in/event/salone-del-mobile-milano-2026-2/
LOCATION:Fiera Milano Rho\, Milan\, 20017\, Italy
CATEGORIES:Interior Design
END:VEVENT
BEGIN:VEVENT
DTSTART;TZID=Asia/Kolkata:20260421T080000
DTEND;TZID=Asia/Kolkata:20260423T170000
DTSTAMP:20260421T012329
CREATED:20260309T054013Z
LAST-MODIFIED:20260309T054013Z
UID:61696-1776758400-1776963600@thehomefashion.in
SUMMARY:Dubai International Wood & Woodworking Machinery Show 2026
DESCRIPTION:Dubai WoodShow 2026 is the leading international trade exhibition dedicated to wood\, woodworking machinery\, and interior furnishing materials in the Middle East. The event attracts manufacturers\, designers\, architects\, contractors\, and furniture producers who are interested in exploring the latest innovations in wood products and interior construction materials. \nExhibitors present a wide variety of products including decorative wooden panels\, engineered wood flooring\, furniture components\, carpentry tools\, and woodworking machinery. Many companies use the exhibition as a platform to launch new technologies that improve efficiency and sustainability in furniture manufacturing and interior construction. The event also highlights eco-friendly wood sourcing and sustainable production practices that align with global environmental standards. \nThe exhibition features live demonstrations\, business networking sessions\, and technical seminars where industry experts discuss market trends\, manufacturing techniques\, and the future of wood-based interior materials. Architects and interior designers attend the event to discover new materials and design possibilities for residential\, hospitality\, and commercial spaces. \nDubai WoodShow continues to serve as a key meeting point for professionals involved in furniture production\, interior design\, and architectural materials\, making it an important event within the global wood and interior construction industry.
URL:https://thehomefashion.in/event/dubai-international-wood-woodworking-machinery-show-2026/
LOCATION:Dubai World Trade Centre\, Dubai\, United Arab Emirates\, United Arab Emirates
CATEGORIES:HomeInterirorDesigingExpo
END:VEVENT
BEGIN:VEVENT
DTSTART;TZID=Asia/Kolkata:20260421T080000
DTEND;TZID=Asia/Kolkata:20260423T170000
DTSTAMP:20260421T012329
CREATED:20260326T070853Z
LAST-MODIFIED:20260326T070853Z
UID:63524-1776758400-1776963600@thehomefashion.in
SUMMARY:Dubai WoodShow 2026
DESCRIPTION:Dubai WoodShow 2026 is a premier international exhibition dedicated to wood\, woodworking machinery\, and interior materials. The event brings together manufacturers\, suppliers\, and industry professionals from around the world. \nThe exhibition showcases timber products\, furniture materials\, and woodworking technologies. It highlights innovation\, sustainability\, and modern construction practices. \nVisitors can explore new products\, attend seminars\, and build business connections. \nDubai WoodShow serves as a major platform for professionals in furniture manufacturing and interior design industries.
URL:https://thehomefashion.in/event/dubai-woodshow-2026-2/
LOCATION:Dubai World Trade Centre\, UAE\, United Arab Emirates
CATEGORIES:home decor,Interior Design
END:VEVENT
BEGIN:VEVENT
DTSTART;TZID=Asia/Kolkata:20260421T080000
DTEND;TZID=Asia/Kolkata:20260423T170000
DTSTAMP:20260421T012329
CREATED:20260326T071539Z
LAST-MODIFIED:20260326T071539Z
UID:63528-1776758400-1776963600@thehomefashion.in
SUMMARY:Workspace Expo Paris 2026
DESCRIPTION:Workspace Expo Paris 2026 is a leading exhibition focused on workplace design\, office interiors\, and furniture solutions. The event brings together designers\, architects\, and companies to explore innovations in workspace environments. \nThe exhibition features office furniture\, lighting\, flooring\, and smart workspace solutions. It highlights ergonomics\, sustainability\, and productivity in modern offices. \nVisitors can attend conferences and discover new design concepts. \nWorkspace Expo serves as a key platform for workplace design innovation.
URL:https://thehomefashion.in/event/workspace-expo-paris-2026/
LOCATION:Paris Expo Porte de Versailles\, France\, France
CATEGORIES:Architecture,Interior Design
END:VEVENT
END:VCALENDAR