BEGIN:VCALENDAR
VERSION:2.0
PRODID:-//HOME FASHION TRENDS - ECPv6.15.20//NONSGML v1.0//EN
CALSCALE:GREGORIAN
METHOD:PUBLISH
X-WR-CALNAME:HOME FASHION TRENDS
X-ORIGINAL-URL:https://thehomefashion.in
X-WR-CALDESC:Events for HOME FASHION TRENDS
REFRESH-INTERVAL;VALUE=DURATION:PT1H
X-Robots-Tag:noindex
X-PUBLISHED-TTL:PT1H
BEGIN:VTIMEZONE
TZID:Asia/Kolkata
BEGIN:STANDARD
TZOFFSETFROM:+0530
TZOFFSETTO:+0530
TZNAME:IST
DTSTART:20250101T000000
END:STANDARD
END:VTIMEZONE
BEGIN:VEVENT
DTSTART;VALUE=DATE:20260430
DTEND;VALUE=DATE:20260503
DTSTAMP:20260425T185208
CREATED:20260309T155634Z
LAST-MODIFIED:20260309T155634Z
UID:61777-1777507200-1777766399@thehomefashion.in
SUMMARY:East Africa Textile & Leather Week 2026
DESCRIPTION:East Africa Textile & Leather Week 2026 is an important industry gathering dedicated to textile products\, fabrics\, and leather goods. The event brings together manufacturers\, suppliers\, designers\, and retailers from across Africa and international markets. Exhibitors showcase a variety of textile products including fabrics used in home decor and furnishings. The exhibition highlights emerging textile manufacturing hubs and artisan craftsmanship. Buyers attend to source new materials and build partnerships with regional producers. Industry seminars focus on sustainable textile production and market trends. Designers explore unique textile patterns and materials suitable for interior decoration. The event encourages collaboration between textile producers and global buyers. It also promotes regional craftsmanship and handmade textile traditions. East Africa Textile & Leather Week contributes to the development of Africa’s textile and decor industry.
URL:https://thehomefashion.in/event/east-africa-textile-leather-week-2026/
LOCATION:Sarit Expo Centre\, Nairobi\, 00606\, Kenya
CATEGORIES:Handloom
ATTACH;FMTTYPE=image/png:https://thehomefashion.in/wp-content/uploads/2026/03/Logo_ASFW-Nairobi-2026_mobile-retina-1.png
END:VEVENT
BEGIN:VEVENT
DTSTART;TZID=Asia/Kolkata:20260502T080000
DTEND;TZID=Asia/Kolkata:20260510T170000
DTSTAMP:20260425T185208
CREATED:20260326T130229Z
LAST-MODIFIED:20260326T130229Z
UID:63687-1777708800-1778432400@thehomefashion.in
SUMMARY:Feira Internacional de Artesanato (FIART) 2026
DESCRIPTION:FIART 2026 is an international handicrafts fair showcasing traditional and contemporary craft products from around the world. It highlights handmade textiles\, decorative items\, and cultural artifacts. \nThe event attracts artisans\, designers\, and collectors. \nIt promotes cultural exchange and craftsmanship. \nVisitors can explore unique handmade products. \nIt supports global craft industries.
URL:https://thehomefashion.in/event/feira-internacional-de-artesanato-fiart-2026/
LOCATION:Natal\, Brazil\, Brazil
CATEGORIES:handicraft,Handloom
END:VEVENT
BEGIN:VEVENT
DTSTART;VALUE=DATE:20260705
DTEND;VALUE=DATE:20260711
DTSTAMP:20260425T185208
CREATED:20260310T143917Z
LAST-MODIFIED:20260310T143917Z
UID:61920-1783209600-1783727999@thehomefashion.in
SUMMARY:India Handloom Expo 2026
DESCRIPTION:India Handloom Expo 2026 is a large exhibition dedicated to traditional handloom textiles and artisan craftsmanship. The event brings together weavers\, designers\, and textile buyers from across India and international markets. Exhibitors showcase handwoven fabrics\, decorative textiles\, and traditional weaving techniques. Visitors explore textile products suitable for home furnishings and decor applications. Designers attend to discover handcrafted fabrics for interior styling. Cultural demonstrations highlight regional weaving traditions and artisan skills. The exhibition supports small weaving communities and promotes sustainable textile production. Buyers attend to source handloom products for retail and export markets. Workshops focus on preserving traditional textile techniques. India Handloom Expo remains a major platform for promoting India’s handloom heritage.
URL:https://thehomefashion.in/event/india-handloom-expo-2026/
LOCATION:Biswa Bangla Mela Prangan\, Kolkata\, 700156\, India
CATEGORIES:Handloom
END:VEVENT
END:VCALENDAR