BEGIN:VCALENDAR
VERSION:2.0
PRODID:-//HOME FASHION TRENDS - ECPv6.15.13.1//NONSGML v1.0//EN
CALSCALE:GREGORIAN
METHOD:PUBLISH
X-WR-CALNAME:HOME FASHION TRENDS
X-ORIGINAL-URL:https://thehomefashion.in
X-WR-CALDESC:Events for HOME FASHION TRENDS
REFRESH-INTERVAL;VALUE=DURATION:PT1H
X-Robots-Tag:noindex
X-PUBLISHED-TTL:PT1H
BEGIN:VTIMEZONE
TZID:Asia/Kolkata
BEGIN:STANDARD
TZOFFSETFROM:+0530
TZOFFSETTO:+0530
TZNAME:IST
DTSTART:20250101T000000
END:STANDARD
END:VTIMEZONE
BEGIN:VEVENT
DTSTART;VALUE=DATE:20260602
DTEND;VALUE=DATE:20260605
DTSTAMP:20260422T151140
CREATED:20260331T212354Z
LAST-MODIFIED:20260331T212354Z
UID:64688-1780358400-1780617599@thehomefashion.in
SUMMARY:Ambiente India 2026
DESCRIPTION:Ambiente India 2026 is a trade exhibition focused on home décor\, gifting\, and lifestyle products. The event gathers designers\, retailers\, and manufacturers from across India and global markets. Exhibitors present decorative accessories\, furniture\, and home products. Visitors explore design trends and retail opportunities. The exhibition highlights craftsmanship and innovation. Designers attend to discover new collections and brands. Educational sessions discuss market trends. Networking opportunities connect suppliers with buyers. Product displays highlight creative solutions. The event supports India’s home décor industry.
URL:https://thehomefashion.in/event/ambiente-india-2026/
LOCATION:Bombay Exhibition Centre\, Mumbai\, 400063\, India
CATEGORIES:home decor
END:VEVENT
BEGIN:VEVENT
DTSTART;TZID=Asia/Kolkata:20260605T080000
DTEND;TZID=Asia/Kolkata:20260608T170000
DTSTAMP:20260422T151140
CREATED:20260328T180645Z
LAST-MODIFIED:20260328T180645Z
UID:63916-1780646400-1780938000@thehomefashion.in
SUMMARY:Morocco Home Expo 2026
DESCRIPTION:Morocco Home Expo 2026 is a regional exhibition focused on home décor\, furniture\, and interior design solutions. \nThe event showcases décor\, textiles\, and furniture. \nIt highlights modern and traditional design. \nVisitors can explore products and trends. \nIt supports regional design industries.
URL:https://thehomefashion.in/event/morocco-home-expo-2026/
LOCATION:Casablanca\, Morocco\, Morocco
CATEGORIES:home decor,Interior Design
END:VEVENT
BEGIN:VEVENT
DTSTART;TZID=Asia/Kolkata:20260605T080000
DTEND;TZID=Asia/Kolkata:20260608T170000
DTSTAMP:20260422T151140
CREATED:20260328T182401Z
LAST-MODIFIED:20260328T182422Z
UID:63930-1780646400-1780938000@thehomefashion.in
SUMMARY:Vietnam International Furniture & Home Accessories Fair  2026
DESCRIPTION:The Vietnam International Furniture & Home Accessories Fair (VIFA Expo) 2026 is a major international trade exhibition showcasing furniture\, home décor\, and interior design products. It attracts manufacturers\, designers\, and buyers from across Asia and beyond. \nThe exhibition features a wide range of products including indoor and outdoor furniture\, handicrafts\, home textiles\, and decorative accessories. It highlights craftsmanship\, innovation\, and export-quality products from Vietnam and international exhibitors. \nVisitors can explore product displays\, connect with suppliers\, and discover emerging trends in furniture and interior design. The event serves as a key platform for sourcing and networking in the global home décor market. \nVIFA Expo plays an important role in promoting Vietnam’s furniture industry on the international stage.
URL:https://thehomefashion.in/event/vietnam-international-furniture-home-accessories-fair-vifa-expo-2026/
LOCATION:SECC – Saigon Exhibition & Convention Center\, Ho Chi Minh City\, Vietnam\, Viet Nam
CATEGORIES:home decor,home textiles
END:VEVENT
BEGIN:VEVENT
DTSTART;TZID=Asia/Kolkata:20260607T080000
DTEND;TZID=Asia/Kolkata:20260609T170000
DTSTAMP:20260422T151140
CREATED:20260328T180012Z
LAST-MODIFIED:20260328T180012Z
UID:63909-1780819200-1781024400@thehomefashion.in
SUMMARY:Spoga+Gafa 2026
DESCRIPTION:Spoga+Gafa 2026 is the world’s largest garden and outdoor living trade fair. It includes outdoor furniture\, décor\, and lifestyle products that connect with exterior design trends. \nThe event showcases furniture\, textiles\, and decorative elements for outdoor spaces. \nIt highlights sustainability and innovation. \nVisitors can explore exhibits and network. \nIt plays a key role in outdoor design industries.
URL:https://thehomefashion.in/event/spogagafa-2026/
LOCATION:Koelnmesse\, Cologne\, Germany\, Germany
CATEGORIES:home decor,home textiles
END:VEVENT
BEGIN:VEVENT
DTSTART;TZID=Asia/Kolkata:20260609T080000
DTEND;TZID=Asia/Kolkata:20260614T170000
DTSTAMP:20260422T151140
CREATED:20260328T175410Z
LAST-MODIFIED:20260328T175439Z
UID:63900-1780992000-1781456400@thehomefashion.in
SUMMARY:Design Miami/Basel 2026
DESCRIPTION:Design Miami/Basel 2026 is a prestigious global design fair held alongside Art Basel. It focuses on collectible design\, furniture\, and high-end interior pieces. \nThe event brings together galleries\, designers\, and collectors showcasing exclusive furniture\, lighting\, and décor objects. \nIt highlights craftsmanship\, luxury\, and innovation in design. \nVisitors can explore curated exhibitions and network with global professionals. \nIt is one of the most influential design events worldwide.
URL:https://thehomefashion.in/event/design-miami-basel-2026-2/
LOCATION:basel\, Switzerland\, Switzerland
CATEGORIES:home decor,Interior Design
END:VEVENT
BEGIN:VEVENT
DTSTART;TZID=Asia/Kolkata:20260610T080000
DTEND;TZID=Asia/Kolkata:20260612T170000
DTSTAMP:20260422T151140
CREATED:20260328T172129Z
LAST-MODIFIED:20260328T172129Z
UID:63894-1781078400-1781283600@thehomefashion.in
SUMMARY:3daysofdesign Copenhagen 2026
DESCRIPTION:3daysofdesign Copenhagen 2026 is a prominent design festival that celebrates Scandinavian design\, furniture\, and interiors. The event takes place across showrooms\, galleries\, and design spaces throughout Copenhagen. \nIt showcases furniture\, lighting\, textiles\, and innovative interior concepts. The event emphasizes sustainability\, craftsmanship\, and minimalism\, reflecting the essence of Nordic design. \nVisitors can explore exhibitions\, attend talks\, and connect with designers and brands. \nThe festival attracts global professionals and design enthusiasts\, making it a key event in the international design calendar.
URL:https://thehomefashion.in/event/3daysofdesign-copenhagen-2026-2/
LOCATION:Copenhagen\, Denmark\, Denmark
CATEGORIES:home decor,Interior Design
END:VEVENT
BEGIN:VEVENT
DTSTART;TZID=Asia/Kolkata:20260611T080000
DTEND;TZID=Asia/Kolkata:20260613T170000
DTSTAMP:20260422T151140
CREATED:20260329T031802Z
LAST-MODIFIED:20260329T031802Z
UID:63988-1781164800-1781370000@thehomefashion.in
SUMMARY:Warsaw Home Green Days 2026
DESCRIPTION:Warsaw Home Green Days 2026 focuses on eco-friendly interiors\, outdoor design\, and sustainable living solutions. \nThe event showcases furniture\, décor\, and green technologies. \nIt highlights sustainability and innovation. \nVisitors can explore products and trends. \nIt contributes to sustainable design practices
URL:https://thehomefashion.in/event/warsaw-home-green-days-2026/
LOCATION:Warsaw\, Poland\, Poland
CATEGORIES:home decor,Interior Design
END:VEVENT
BEGIN:VEVENT
DTSTART;TZID=Asia/Kolkata:20260611T080000
DTEND;TZID=Asia/Kolkata:20260614T170000
DTSTAMP:20260422T151140
CREATED:20260329T013509Z
LAST-MODIFIED:20260329T013509Z
UID:63940-1781164800-1781456400@thehomefashion.in
SUMMARY:Art Basel 2026 (Design & Interiors Influence)
DESCRIPTION:Art Basel 2026 is one of the world’s most important art fairs\, with strong influence on interior design through contemporary art\, installations\, and décor pieces. \nThe event features galleries\, artists\, and large-scale installations. \nIt highlights creativity and global trends. \nVisitors can explore exhibitions and network. \nIt influences design and décor markets worldwide.
URL:https://thehomefashion.in/event/art-basel-2026-design-interiors-influence/
LOCATION:Messe Basel\, Switzerland\, Switzerland
CATEGORIES:handicraft,home decor
END:VEVENT
BEGIN:VEVENT
DTSTART;TZID=Asia/Kolkata:20260612T080000
DTEND;TZID=Asia/Kolkata:20260614T170000
DTSTAMP:20260422T151140
CREATED:20260329T015631Z
LAST-MODIFIED:20260329T015631Z
UID:63961-1781251200-1781456400@thehomefashion.in
SUMMARY:Design District Oslo 2026
DESCRIPTION:Design District Oslo 2026 is a Scandinavian design event showcasing furniture\, interiors\, and creative concepts. \nThe event brings together designers and brands. \nIt highlights Nordic design trends. \nVisitors can explore exhibitions and network. \nIt contributes to the regional design scene
URL:https://thehomefashion.in/event/design-district-oslo-2026/
LOCATION:Oslo\, Norway\, Norway
CATEGORIES:home decor,Interior Design
END:VEVENT
BEGIN:VEVENT
DTSTART;TZID=Asia/Kolkata:20260614T080000
DTEND;TZID=Asia/Kolkata:20260616T170000
DTSTAMP:20260422T151140
CREATED:20260329T020332Z
LAST-MODIFIED:20260329T020332Z
UID:63971-1781424000-1781629200@thehomefashion.in
SUMMARY:Philippines Interior & Design Expo (PIDE) 2026
DESCRIPTION:PIDE 2026 is a regional exhibition focused on interior design\, furniture\, and décor solutions. \nThe event showcases modern design concepts. \nIt attracts designers and brands. \nVisitors can explore products and trends. \nIt supports the regional design industry.
URL:https://thehomefashion.in/event/philippines-interior-design-expo-pide-2026/
LOCATION:Manila\, Philippines\, Philippines
CATEGORIES:home decor,Interior Design
END:VEVENT
BEGIN:VEVENT
DTSTART;VALUE=DATE:20260615
DTEND;VALUE=DATE:20260618
DTSTAMP:20260422T151140
CREATED:20260319T060603Z
LAST-MODIFIED:20260319T060603Z
UID:62548-1781481600-1781740799@thehomefashion.in
SUMMARY:Australian International Furniture Fair 2026
DESCRIPTION:Australian International Furniture Fair is a major trade exhibition dedicated to furniture design and interior décor. The event gathers manufacturers\, designers\, and retailers from across the Asia-Pacific region. Exhibitors showcase furniture collections\, decorative lighting\, textiles\, and home accessories. Visitors explore modern design concepts and innovative interior solutions. Educational talks feature industry professionals discussing furniture design trends. Networking opportunities connect manufacturers with international buyers.
URL:https://thehomefashion.in/event/australian-international-furniture-fair-2026/
LOCATION:Melbourne Exhibition Centre\, M\, 3006\, Australia
CATEGORIES:home decor
END:VEVENT
BEGIN:VEVENT
DTSTART;TZID=Asia/Kolkata:20260616T080000
DTEND;TZID=Asia/Kolkata:20260621T170000
DTSTAMP:20260422T151140
CREATED:20260329T022239Z
LAST-MODIFIED:20260329T022239Z
UID:63976-1781596800-1782061200@thehomefashion.in
SUMMARY:Salone del Mobile.Milano 2026
DESCRIPTION:Salone del Mobile.Milano 2026 is one of the world’s most prestigious furniture and interior design fairs. It showcases high-end furniture\, home décor\, and innovative interior solutions from global brands and designers. \nThe exhibition highlights craftsmanship\, sustainability\, and cutting-edge design trends. It attracts architects\, designers\, and industry professionals from across the globe. \nVisitors can explore curated exhibits\, attend talks\, and discover new design concepts shaping modern interiors. \nThe event plays a central role in defining global design trends and fostering collaboration across the industry.
URL:https://thehomefashion.in/event/salone-del-mobile-milano-2026-4/
LOCATION:Fiera Milano\, Milan\, Italy\, Italy
CATEGORIES:home decor,Interior Design
END:VEVENT
BEGIN:VEVENT
DTSTART;VALUE=DATE:20260618
DTEND;VALUE=DATE:20260621
DTSTAMP:20260422T151140
CREATED:20260319T114315Z
LAST-MODIFIED:20260319T114335Z
UID:62633-1781740800-1781999999@thehomefashion.in
SUMMARY:Maison&Objet Americas 2026
DESCRIPTION:Maison&Objet Americas is an international design and lifestyle exhibition focusing on home décor and interior design. The event gathers designers\, retailers\, and manufacturers from global markets. Exhibitors showcase decorative accessories\, furniture\, and interior styling products. Visitors explore design trends shaping modern living environments. The exhibition highlights craftsmanship and premium materials. Designers attend to discover innovative product collections. Educational sessions discuss global design trends and consumer behavior. Networking opportunities connect brands with international buyers. Product launches introduce new décor concepts. The event strengthens global design exchange.
URL:https://thehomefashion.in/event/maisonobjet-americas-2026/
LOCATION:Miami Beach Convention Center\, Miami Beach\, 33139\, United States
CATEGORIES:home decor
END:VEVENT
BEGIN:VEVENT
DTSTART;VALUE=DATE:20260618
DTEND;VALUE=DATE:20260622
DTSTAMP:20260422T151140
CREATED:20260331T172338Z
LAST-MODIFIED:20260331T172338Z
UID:64539-1781740800-1782086399@thehomefashion.in
SUMMARY:Decorex Cape Town 2026
DESCRIPTION:Decorex Cape Town 2026 is a major exhibition focused on home décor\, interior design\, and lifestyle products. The event gathers designers\, manufacturers\, and consumers from across Africa. Exhibitors present furniture\, decorative accessories\, and interior solutions. Visitors explore modern design trends and home styling ideas. The exhibition highlights innovation and craftsmanship. Designers attend to discover new collections and brands. Educational sessions discuss interior design trends and consumer preferences. Networking opportunities connect suppliers with buyers. Product displays highlight creative design solutions. The event is a key platform for the African décor industry.
URL:https://thehomefashion.in/event/decorex-cape-town-2026/
LOCATION:Cape Town International Convention Centre\, Cape Town\, 8001\, South Africa
CATEGORIES:home decor
END:VEVENT
BEGIN:VEVENT
DTSTART;VALUE=DATE:20260624
DTEND;VALUE=DATE:20260627
DTSTAMP:20260422T151140
CREATED:20260310T142535Z
LAST-MODIFIED:20260310T142535Z
UID:61905-1782259200-1782518399@thehomefashion.in
SUMMARY:Interior Lifestyle Tokyo 2026
DESCRIPTION:Interior Lifestyle Tokyo 2026 is a leading international exhibition dedicated to lifestyle products\, home decor\, and interior design accessories. The event gathers designers\, retailers\, and manufacturers from around the world. Exhibitors showcase decorative accessories\, textiles\, furniture pieces\, and design products. Visitors explore creative home styling concepts inspired by Japanese and international aesthetics. The exhibition highlights craftsmanship and innovative design ideas for modern living spaces. Designers present curated collections reflecting contemporary decor trends. Workshops and seminars provide insights into design innovation and retail trends. Buyers attend the event to source unique home decor products. The exhibition encourages collaboration between designers and global lifestyle brands. Interior Lifestyle Tokyo plays a key role in the Asian interior design market.
URL:https://thehomefashion.in/event/interior-lifestyle-tokyo-2026/
LOCATION:Tokyo Big Sight\, Tokyo\, 135-0063\, Japan
CATEGORIES:home decor
ATTACH;FMTTYPE=image/webp:https://thehomefashion.in/wp-content/uploads/2026/03/nterior-Lifestyle-2026.webp
END:VEVENT
BEGIN:VEVENT
DTSTART;VALUE=DATE:20260625
DTEND;VALUE=DATE:20260629
DTSTAMP:20260422T151140
CREATED:20260319T060934Z
LAST-MODIFIED:20260319T060934Z
UID:62555-1782345600-1782691199@thehomefashion.in
SUMMARY:Bangkok International Gift & Houseware Fair 2026 – Home Decor Section
DESCRIPTION:Bangkok International Gift & Houseware Fair features a large section dedicated to home décor and interior accessories. The event gathers designers\, manufacturers\, and retailers from across Asia. Exhibitors showcase decorative accessories\, furniture pieces\, and lifestyle products. Visitors explore creative interior styling ideas and design trends. Educational sessions discuss product innovation and retail trends.
URL:https://thehomefashion.in/event/bangkok-international-gift-houseware-fair-2026-home-decor-section/
LOCATION:Bangkok International Trade & Exhibition Centre\, Bangkok\, 10260\, Thailand
CATEGORIES:home decor
END:VEVENT
BEGIN:VEVENT
DTSTART;VALUE=DATE:20260630
DTEND;VALUE=DATE:20260704
DTSTAMP:20260422T151140
CREATED:20260319T110816Z
LAST-MODIFIED:20260319T110816Z
UID:62588-1782777600-1783123199@thehomefashion.in
SUMMARY:HGH India 2026
DESCRIPTION:HGH India 2026 is a major trade show for home textiles\, home décor\, home furniture\, houseware\, and gifts. It brings together Indian and international brands\, manufacturers\, exporters\, retailers\, importers\, distributors\, institutional buyers\, and interior designers. The show is positioned around festive-season sourcing and new product discovery for the home products market. Exhibitors typically cover furnishing textiles\, décor accents\, furniture\, tableware\, and lifestyle merchandise. The event is useful for buyers looking for trend-led\, commercially relevant products for the Indian market. It also creates networking opportunities between suppliers and large-format retail and distribution channels. Because of its category mix\, it fits well across home textiles and home décor. It is one of the more established home-product trade fairs in India.
URL:https://thehomefashion.in/event/hgh-india-2026/
LOCATION:Bombay Exhibition Centre (NESCO)\, Bombay\, 400063\, India
CATEGORIES:home decor
END:VEVENT
BEGIN:VEVENT
DTSTART;VALUE=DATE:20260630
DTEND;VALUE=DATE:20260704
DTSTAMP:20260422T151140
CREATED:20260319T112032Z
LAST-MODIFIED:20260319T112032Z
UID:62614-1782777600-1783123199@thehomefashion.in
SUMMARY:INDEX Saudi Arabia 2026
DESCRIPTION:INDEX Saudi Arabia 2026 is a trade show focused on interior design\, furniture\, and fit-out for the Saudi market. The official site positions it as a platform where projects source interior innovation\, with strong relevance to the Kingdom’s expanding design and development pipeline. The event is valuable for furniture\, interiors\, fit-out products\, and specification-led sourcing. It is especially useful for your categories because it aligns directly with interior design and home-related product sectors. The official pages confirm the 2026 dates in Riyadh and the trade-professional audience. It is a strong addition for September coverage in the Middle East design calendar.
URL:https://thehomefashion.in/event/index-saudi-arabia-2026/
LOCATION:Bombay Exhibition Centre (NESCO)\, Bombay\, 400063\, India
CATEGORIES:home decor
END:VEVENT
END:VCALENDAR