BEGIN:VCALENDAR
VERSION:2.0
PRODID:-//HOME FASHION TRENDS - ECPv6.15.20//NONSGML v1.0//EN
CALSCALE:GREGORIAN
METHOD:PUBLISH
X-WR-CALNAME:HOME FASHION TRENDS
X-ORIGINAL-URL:https://thehomefashion.in
X-WR-CALDESC:Events for HOME FASHION TRENDS
REFRESH-INTERVAL;VALUE=DURATION:PT1H
X-Robots-Tag:noindex
X-PUBLISHED-TTL:PT1H
BEGIN:VTIMEZONE
TZID:Asia/Kolkata
BEGIN:STANDARD
TZOFFSETFROM:+0530
TZOFFSETTO:+0530
TZNAME:IST
DTSTART:20250101T000000
END:STANDARD
END:VTIMEZONE
BEGIN:VEVENT
DTSTART;VALUE=DATE:20261109
DTEND;VALUE=DATE:20261113
DTSTAMP:20260425T211753
CREATED:20260331T150358Z
LAST-MODIFIED:20260331T150358Z
UID:64388-1794182400-1794527999@thehomefashion.in
SUMMARY:Downtown Design Dubai 2026
DESCRIPTION:Downtown Design Dubai 2026 is a contemporary design exhibition showcasing premium furniture and interior products. The event gathers designers\, architects\, and developers from global markets. Exhibitors present high-end furniture\, lighting\, and décor accessories. Visitors explore luxury interior design concepts and innovative materials. The exhibition highlights craftsmanship and design innovation. Designers attend to discover premium brands and collections. Educational talks discuss regional design trends. Networking opportunities connect global suppliers with buyers. Product launches introduce new design concepts. The event is a key platform for design in the Middle East.
URL:https://thehomefashion.in/event/downtown-design-dubai-2026-2/
LOCATION:Dubai Design District\, Dubai\, United Arab Emirates
CATEGORIES:home decor
END:VEVENT
BEGIN:VEVENT
DTSTART;VALUE=DATE:20261111
DTEND;VALUE=DATE:20261115
DTSTAMP:20260425T211753
CREATED:20260319T124607Z
LAST-MODIFIED:20260319T124607Z
UID:62722-1794355200-1794700799@thehomefashion.in
SUMMARY:Downtown Design Dubai 2026
DESCRIPTION:Downtown Design Dubai 2026 is a premium design fair featuring contemporary furniture and interior design brands. The event gathers designers\, architects\, and developers from the Middle East and global markets. Exhibitors present high-end furniture\, lighting\, and decorative accessories. Visitors explore luxury interior design concepts and innovative materials. The exhibition highlights craftsmanship and contemporary design. Designers attend to discover premium brands and products. Educational talks discuss design trends and regional development. Networking opportunities connect global brands with Middle Eastern buyers. Product launches introduce new design collections. The event strengthens Dubai’s position in the global design market.
URL:https://thehomefashion.in/event/downtown-design-dubai-2026/
LOCATION:Dubai Design District (d3)\, Dubai\, 00000\, United Arab Emirates
CATEGORIES:home decor
END:VEVENT
BEGIN:VEVENT
DTSTART;VALUE=DATE:20261112
DTEND;VALUE=DATE:20261115
DTSTAMP:20260425T211753
CREATED:20260331T193849Z
LAST-MODIFIED:20260331T193849Z
UID:64589-1794441600-1794700799@thehomefashion.in
SUMMARY:Interior Lifestyle Middle East 2026
DESCRIPTION:Interior Lifestyle Middle East 2026 is a trade exhibition focused on home décor and lifestyle products. The event gathers designers\, retailers\, and manufacturers from across the Middle East. Exhibitors present decorative accessories\, furniture\, and interior products. Visitors explore modern lifestyle trends and design concepts. The exhibition highlights craftsmanship and innovation. Designers attend to discover new collections. Educational sessions discuss market trends. Networking opportunities connect suppliers with buyers. Product displays highlight creative solutions. The event supports the regional décor market.
URL:https://thehomefashion.in/event/interior-lifestyle-middle-east-2026/
LOCATION:Dubai world trade centre\, Dubai\, United Arab Emirates
CATEGORIES:home decor
END:VEVENT
BEGIN:VEVENT
DTSTART;VALUE=DATE:20261115
DTEND;VALUE=DATE:20261119
DTSTAMP:20260425T211753
CREATED:20260319T124812Z
LAST-MODIFIED:20260319T124812Z
UID:62726-1794700800-1795046399@thehomefashion.in
SUMMARY:Home & Giving Fair 2026
DESCRIPTION:Home & Giving Fair 2026 is a trade exhibition focused on home décor\, lifestyle products\, and gifting solutions. The event gathers retailers\, designers\, and manufacturers from across Europe. Exhibitors showcase decorative accessories\, furniture pieces\, and home styling products. Visitors explore seasonal décor trends and interior ideas. The exhibition highlights craftsmanship and product innovation. Designers attend to discover new collections and brands. Educational sessions discuss retail trends and consumer behavior. Networking opportunities connect suppliers with buyers. Product displays highlight creative design solutions. The event supports the home décor retail sector.
URL:https://thehomefashion.in/event/home-giving-fair-2026/
LOCATION:Harrogate Convention Centre\, Harrogate\, HG1 5LA\, United Kingdom
CATEGORIES:home decor
END:VEVENT
BEGIN:VEVENT
DTSTART;VALUE=DATE:20261125
DTEND;VALUE=DATE:20261130
DTSTAMP:20260425T211753
CREATED:20260319T125306Z
LAST-MODIFIED:20260319T125306Z
UID:62746-1795564800-1795996799@thehomefashion.in
SUMMARY:Heim+Handwerk 2026
DESCRIPTION:Heim+Handwerk 2026 is a major consumer exhibition focused on home décor\, furniture\, and interior design. The event gathers designers\, manufacturers\, and homeowners. Exhibitors present furniture\, decorative accessories\, and interior solutions. Visitors explore modern living concepts and design trends. The exhibition highlights craftsmanship and home improvement ideas. Designers attend to showcase new collections. Educational sessions discuss interior design and renovation. Networking opportunities connect suppliers with consumers. Product demonstrations highlight design applications. The event is one of Germany’s largest home and living fairs.
URL:https://thehomefashion.in/event/heimhandwerk-2026/
LOCATION:Messe München\, Munich\, Germany\, Germany
CATEGORIES:home decor
END:VEVENT
BEGIN:VEVENT
DTSTART;VALUE=DATE:20261125
DTEND;VALUE=DATE:20261130
DTSTAMP:20260425T211753
CREATED:20260331T150530Z
LAST-MODIFIED:20260331T150530Z
UID:64392-1795564800-1795996799@thehomefashion.in
SUMMARY:Heim+Handwerk Munich 2026
DESCRIPTION:Heim+Handwerk Munich 2026 is a major exhibition focused on home décor\, furniture\, and interior solutions. The event gathers designers\, manufacturers\, and consumers from across Europe. Exhibitors present furniture\, decorative accessories\, and home improvement products. Visitors explore modern living concepts and interior trends. The exhibition highlights craftsmanship and innovation. Designers attend to discover new collections and materials. Educational sessions discuss interior design and renovation. Networking opportunities connect suppliers with buyers. Product demonstrations showcase design applications. The event is one of Germany’s largest home fairs.
URL:https://thehomefashion.in/event/heimhandwerk-munich-2026/
LOCATION:Messe München\, Munich\, 81823\, Germany
CATEGORIES:home decor
END:VEVENT
END:VCALENDAR