BEGIN:VCALENDAR
VERSION:2.0
PRODID:-//HOME FASHION TRENDS - ECPv6.15.20//NONSGML v1.0//EN
CALSCALE:GREGORIAN
METHOD:PUBLISH
X-ORIGINAL-URL:https://thehomefashion.in
X-WR-CALDESC:Events for HOME FASHION TRENDS
REFRESH-INTERVAL;VALUE=DURATION:PT1H
X-Robots-Tag:noindex
X-PUBLISHED-TTL:PT1H
BEGIN:VTIMEZONE
TZID:Asia/Kolkata
BEGIN:STANDARD
TZOFFSETFROM:+0530
TZOFFSETTO:+0530
TZNAME:IST
DTSTART:20260101T000000
END:STANDARD
END:VTIMEZONE
BEGIN:VEVENT
DTSTART;VALUE=DATE:20270518
DTEND;VALUE=DATE:20270522
DTSTAMP:20260425T184859
CREATED:20260324T090018Z
LAST-MODIFIED:20260324T090018Z
UID:63045-1810598400-1810943999@thehomefashion.in
SUMMARY:Global Home Décor & Furnishing Expo 2027
DESCRIPTION:Global Home Décor & Furnishing Expo 2027 showcases furniture\, décor\, and interior products from international markets. The event gathers manufacturers\, designers\, and retailers. Exhibitors present furniture collections\, decorative accessories\, and home textiles. Visitors explore modern design concepts and interior trends. The exhibition highlights craftsmanship and innovation. Designers attend to discover new collections and materials. Educational sessions discuss design and retail trends. Networking opportunities connect suppliers with buyers. Product displays highlight creative interior solutions. The event supports global home décor markets.
URL:https://thehomefashion.in/event/global-home-decor-furnishing-expo-2027/
LOCATION:Istanbul Expo Center\, Istanbul\, 34149\, Turkey
CATEGORIES:home decor
END:VEVENT
END:VCALENDAR