BEGIN:VCALENDAR
VERSION:2.0
PRODID:-//HOME FASHION TRENDS - ECPv6.15.13.1//NONSGML v1.0//EN
CALSCALE:GREGORIAN
METHOD:PUBLISH
X-ORIGINAL-URL:https://thehomefashion.in
X-WR-CALDESC:Events for HOME FASHION TRENDS
REFRESH-INTERVAL;VALUE=DURATION:PT1H
X-Robots-Tag:noindex
X-PUBLISHED-TTL:PT1H
BEGIN:VTIMEZONE
TZID:Asia/Kolkata
BEGIN:STANDARD
TZOFFSETFROM:+0530
TZOFFSETTO:+0530
TZNAME:IST
DTSTART:20250101T000000
END:STANDARD
END:VTIMEZONE
BEGIN:VEVENT
DTSTART;TZID=Asia/Kolkata:20260307T080000
DTEND;TZID=Asia/Kolkata:20260315T170000
DTSTAMP:20260423T004301
CREATED:20260307T032203Z
LAST-MODIFIED:20260307T032203Z
UID:61604-1772870400-1773594000@thehomefashion.in
SUMMARY:Home & Decor Furniture Fair Bangkok 2026
DESCRIPTION:The Home & Decor Furniture Fair 2026 is a large-scale consumer exhibition dedicated to the latest trends in furniture\, home décor\, and interior design solutions. Held at the Bangkok International Trade & Exhibition Centre (BITEC) in Bangkok\, the event brings together a wide range of furniture brands\, manufacturers\, and décor specialists from Thailand and around the world. The fair offers visitors an exciting opportunity to explore modern\, stylish\, and functional products designed to enhance both residential and commercial interiors. \nAttendees can browse through diverse furniture collections including living room sets\, bedroom furniture\, dining tables\, office furniture\, and outdoor furnishings. In addition to furniture\, the exhibition features decorative accessories\, lighting solutions\, home textiles\, wall décor\, and creative interior design elements that help transform living spaces. The fair showcases both contemporary and traditional styles\, allowing visitors to discover products that suit different tastes and design preferences. \nOne of the highlights of the event is the presentation of emerging home décor trends and innovative design concepts. Many exhibitors introduce smart home solutions\, space-saving furniture\, and sustainable materials that reflect modern lifestyle needs. Interior designers\, homeowners\, and décor enthusiasts can gain inspiration and practical ideas for renovating or redecorating their homes. \nThe exhibition also serves as an important marketplace where visitors can connect directly with brands and suppliers. Special promotions\, exclusive discounts\, and new product launches are commonly featured throughout the event. With its wide variety of exhibitors and creative displays\, the Home & Decor Furniture Fair 2026 provides a dynamic platform for discovering stylish furnishings\, unique décor pieces\, and fresh inspiration for beautiful and functional living spaces.
URL:https://thehomefashion.in/event/home-decor-furniture-fair-bangkok-2026/
LOCATION:Bangkok International Trade & Exhibition Centre (BITEC)\, Bangkok\, Thailand\, Bangkok\, Thailand
CATEGORIES:home decor
END:VEVENT
BEGIN:VEVENT
DTSTART;TZID=Asia/Kolkata:20260311T080000
DTEND;TZID=Asia/Kolkata:20260315T170000
DTSTAMP:20260423T004301
CREATED:20260316T094057Z
LAST-MODIFIED:20260316T094124Z
UID:62313-1773216000-1773594000@thehomefashion.in
SUMMARY:Wohnen & Interieur 2026 – Living & Interior Design Fair
DESCRIPTION:Wohnen & Interieur 2026 is Austria’s largest trade fair dedicated to modern living\, interior design\, furniture\, and home décor trends. The exhibition attracts thousands of visitors including architects\, interior designers\, homeowners\, and lifestyle enthusiasts who are interested in discovering innovative ideas for contemporary living spaces. The event provides a comprehensive platform where leading furniture brands\, design studios\, and décor manufacturers present their latest products and creative solutions for residential interiors. \nVisitors can explore a wide variety of exhibits including modern furniture collections\, decorative lighting\, designer kitchens\, home textiles\, flooring solutions\, and innovative décor accessories. The exhibition highlights how design\, comfort\, and sustainability can be integrated to create stylish and functional homes. Many exhibitors showcase eco-friendly materials and energy-efficient interior solutions that reflect the growing global demand for sustainable living. \nIn addition to product exhibitions\, the event hosts workshops\, design demonstrations\, and expert presentations where professionals discuss emerging trends in interior design\, architecture\, and home renovation. Architects and designers often attend the fair to gain inspiration and discover new materials that can be used in residential or hospitality projects. \nWith hundreds of exhibitors and thousands of visitors expected\, Wohnen & Interieur continues to be a major meeting point for the European interior design and home furnishing industry.
URL:https://thehomefashion.in/event/wohnen-interieur-2026-living-interior-design-trade-fair/
LOCATION:Messe Wien Exhibition & Congress Center\, Vienna\, Austria\, Austria
CATEGORIES:home decor,Interior Design
END:VEVENT
BEGIN:VEVENT
DTSTART;TZID=Asia/Kolkata:20260312T080000
DTEND;TZID=Asia/Kolkata:20260315T170000
DTSTAMP:20260423T004301
CREATED:20260308T063100Z
LAST-MODIFIED:20260308T063100Z
UID:61656-1773302400-1773594000@thehomefashion.in
SUMMARY:Scott Antique Market – Atlanta Spring Show
DESCRIPTION:Scott Antique Market – Atlanta Spring Show is one of the largest antique and vintage décor markets in the United States. The event brings together hundreds of dealers presenting antique furniture\, handcrafted décor items\, vintage textiles\, and collectible home accessories. Designers\, collectors\, and homeowners visit the market to discover unique décor pieces that add character and historical charm to interior spaces. Exhibitors showcase antique furniture\, decorative art\, handmade crafts\, and rare collectibles sourced from around the world. Interior designers often attend the show to find one-of-a-kind items suitable for luxury residential and commercial design projects. The market also provides opportunities for collectors to interact with dealers and learn about historical design styles and craftsmanship. With a vast selection of vintage décor and handcrafted products\, Scott Antique Market offers inspiration for anyone interested in traditional design and antique home styling.
URL:https://thehomefashion.in/event/scott-antique-market-atlanta-spring-show/
LOCATION:Atlanta Expo Centers\, Atlanta\, Georgia\, USA\, United States
CATEGORIES:handicraft,home decor
END:VEVENT
BEGIN:VEVENT
DTSTART;TZID=Asia/Kolkata:20260312T080000
DTEND;TZID=Asia/Kolkata:20260316T170000
DTSTAMP:20260423T004301
CREATED:20260316T031241Z
LAST-MODIFIED:20260316T031241Z
UID:62285-1773302400-1773680400@thehomefashion.in
SUMMARY:62nd IHGF Delhi Fair Autumn 2026 – Home Decor & Lifestyle
DESCRIPTION:The 62nd IHGF Delhi Fair Autumn 2026 is one of the world’s largest trade exhibitions dedicated to home décor\, handicrafts\, textiles\, and lifestyle products. Hosted in India’s major handicrafts export hub\, the fair brings together manufacturers\, exporters\, designers\, and global buyers looking for unique décor products and design inspiration. The event serves as a vibrant marketplace where creativity\, craftsmanship\, and modern design meet to showcase the best of home decoration and interior accessories. \nThis edition of the fair highlights a wide range of home décor and home accent products designed to enhance contemporary living spaces. Visitors can explore an extensive collection of decorative items such as artistic vases\, wall art\, sculptures\, decorative mirrors\, candle holders\, ceramics\, blankets\, and designer cushions. Many of these products are created by skilled artisans including glass blowers\, ceramicists\, potters\, and textile craftsmen who combine traditional techniques with modern design innovation. \nThe exhibition also focuses on sustainable craftsmanship and environmentally conscious production methods. Many exhibitors present products made from natural materials and eco-friendly processes that align with the growing global demand for responsible design and sustainable living. \nIHGF Delhi Fair Autumn 2026 provides excellent networking opportunities for international buyers\, retailers\, interior designers\, and sourcing professionals. With thousands of exhibitors and product categories\, the event is an ideal platform to discover innovative home décor collections\, build business connections\, and explore the latest trends shaping the global lifestyle and interior design industry.
URL:https://thehomefashion.in/event/62nd-ihgf-delhi-fair-autumn-2026-home-decor-lifestyle/
LOCATION:India Expo Centre & Mart\, Greater Noida\, Delhi NCR\, India\, India
CATEGORIES:Fabrics Expo,home decor
END:VEVENT
BEGIN:VEVENT
DTSTART;TZID=Asia/Kolkata:20260313T080000
DTEND;TZID=Asia/Kolkata:20260315T170000
DTSTAMP:20260423T004301
CREATED:20260316T095608Z
LAST-MODIFIED:20260316T095608Z
UID:62328-1773388800-1773594000@thehomefashion.in
SUMMARY:Blickfang Stuttgart 2026 – International Design Fair
DESCRIPTION:Blickfang Stuttgart 2026 is an international design fair that celebrates independent designers\, creative craftsmanship\, and contemporary design innovation. The event brings together designers\, artisans\, and creative studios who showcase unique products across furniture\, home décor\, fashion\, and lifestyle design. \nVisitors can explore a curated selection of original design pieces including handcrafted furniture\, decorative lighting\, ceramics\, textiles\, and artistic home accessories. Many of the products displayed at the event are produced by independent designers who focus on craftsmanship\, sustainability\, and innovative design concepts. \nOne of the key highlights of Blickfang Stuttgart is its focus on direct interaction between designers and visitors. Attendees have the opportunity to meet the creators behind the products and learn about their design processes\, inspirations\, and materials. This interaction helps create a deeper appreciation for creative craftsmanship and modern design thinking. \nThe fair attracts interior designers\, collectors\, architects\, and design enthusiasts who are interested in discovering unique products that stand out from mass-produced décor items. By supporting independent designers and promoting creative innovation\, Blickfang Stuttgart has become an important platform for contemporary design and creative entrepreneurship.
URL:https://thehomefashion.in/event/blickfang-stuttgart-2026-international-design-fair/
LOCATION:Liederhalle Cultural & Congress Center\, Stuttgart\, Germany\, Germany
CATEGORIES:handicraft,home decor
END:VEVENT
BEGIN:VEVENT
DTSTART;TZID=Asia/Kolkata:20260313T080000
DTEND;TZID=Asia/Kolkata:20260315T170000
DTSTAMP:20260423T004301
CREATED:20260316T100354Z
LAST-MODIFIED:20260316T100354Z
UID:62334-1773388800-1773594000@thehomefashion.in
SUMMARY:Salon Habitat & Décoration Limoges 2026
DESCRIPTION:Salon Habitat & Décoration Limoges 2026 is a popular home and interior design exhibition held annually in Limoges\, France. The event focuses on modern housing solutions\, renovation ideas\, interior decoration\, and sustainable building technologies. It attracts homeowners\, architects\, designers\, and construction professionals who are interested in discovering new products and services for residential living. \nThe exhibition features a wide variety of exhibitors presenting furniture\, decorative accessories\, flooring systems\, lighting solutions\, kitchen installations\, and architectural materials. Visitors can explore innovative products designed to enhance comfort\, aesthetics\, and energy efficiency in modern homes. \nOne of the main objectives of the event is to help homeowners plan renovation and construction projects by connecting them with experienced professionals. Architects\, designers\, and contractors provide consultations and advice on topics such as interior design\, space optimization\, and sustainable building materials. \nThe event also highlights emerging trends in home décor and interior styling\, showcasing products that combine functionality with creative design. By bringing together experts and suppliers from different sectors of the housing industry\, Salon Habitat & Décoration Limoges provides inspiration and practical solutions for improving residential living spaces.
URL:https://thehomefashion.in/event/salon-habitat-decoration-limoges-2026/
LOCATION:Parc des Expositions de Limoges\, Limoges\, France\, France
CATEGORIES:home decor,Interior Design
END:VEVENT
BEGIN:VEVENT
DTSTART;TZID=Asia/Kolkata:20260313T080000
DTEND;TZID=Asia/Kolkata:20260316T170000
DTSTAMP:20260423T004301
CREATED:20260317T050537Z
LAST-MODIFIED:20260317T050537Z
UID:62381-1773388800-1773680400@thehomefashion.in
SUMMARY:Palm Beach Home Design and Remodeling Show 2026
DESCRIPTION:The Palm Beach Home Design and Remodeling Show 2026 is one of Florida’s leading exhibitions dedicated to home improvement\, interior design\, and modern residential living. The event attracts homeowners\, architects\, interior designers\, builders\, and renovation experts who come together to explore innovative ideas for creating beautiful and functional living spaces. \nThe exhibition features hundreds of exhibitors presenting products and services related to interior décor\, kitchen and bathroom remodeling\, flooring systems\, lighting solutions\, smart home technology\, and architectural materials. Visitors can discover the latest design trends that blend style\, comfort\, and sustainability. Many brands also showcase eco-friendly building materials and energy-efficient home solutions that support modern sustainable lifestyles. \nThe event also includes design seminars and live demonstrations led by industry professionals who share expert advice on renovation planning\, interior styling\, and home improvement strategies. These sessions help homeowners understand how to transform their spaces using creative design concepts and modern materials. \nBy bringing together leading design professionals and innovative home brands\, the Palm Beach Home Design and Remodeling Show provides inspiration and practical solutions for improving residential spaces while highlighting the latest trends in interior design and home décor.
URL:https://thehomefashion.in/event/palm-beach-home-design-and-remodeling-show-2026/
LOCATION:Palm Beach County Convention Center\, West Palm Beach\, Florida\, USA\, United States
CATEGORIES:home decor,Interior Design
END:VEVENT
BEGIN:VEVENT
DTSTART;TZID=Asia/Kolkata:20260313T080000
DTEND;TZID=Asia/Kolkata:20260322T170000
DTSTAMP:20260423T004301
CREATED:20260322T115449Z
LAST-MODIFIED:20260322T115449Z
UID:62908-1773388800-1774198800@thehomefashion.in
SUMMARY:Thailand International Shopping & Lifestyle Exhibition 2026
DESCRIPTION:The Thailand International Shopping & Lifestyle Exhibition 2026 is a unique cross-border retail and cultural expo that brings Thai products directly to Indian consumers. Hosted at the HITEX Exhibition Center\, the event features over 80 exhibitors showcasing a wide variety of products including home décor\, handicrafts\, textiles\, and lifestyle goods. \nThe exhibition offers a diverse range of items such as Thai silk fabrics\, decorative home accessories\, handmade souvenirs\, and wellness products. It creates a marketplace where visitors can experience authentic international craftsmanship without traveling abroad. The event also promotes cultural exchange by introducing traditional Thai design aesthetics to Indian audiences. \nA key highlight is the focus on affordability and direct sourcing\, as many products are sold without intermediaries. This makes the event attractive for both retail buyers and business visitors. The exhibition also provides networking opportunities for importers\, retailers\, and designers looking to explore global sourcing options. Overall\, it serves as a dynamic platform combining shopping\, culture\, and business opportunities.
URL:https://thehomefashion.in/event/thailand-international-shopping-lifestyle-exhibition-2026/
LOCATION:HITEX Exhibition Center\, Hyderabad\, India\, India
CATEGORIES:handicraft,home decor,home textiles
END:VEVENT
BEGIN:VEVENT
DTSTART;TZID=Asia/Kolkata:20260313T080000
DTEND;TZID=Asia/Kolkata:20260322T170000
DTSTAMP:20260423T004301
CREATED:20260324T171254Z
LAST-MODIFIED:20260324T171254Z
UID:63124-1773388800-1774198800@thehomefashion.in
SUMMARY:The National Home Show Toronto 2026
DESCRIPTION:The National Home Show Toronto 2026 is a comprehensive exhibition dedicated to home improvement\, interior design\, and lifestyle innovations. Held at the Enercare Centre\, the event features hundreds of exhibitors showcasing products and services related to home décor\, renovation\, and construction. \nVisitors can explore a wide range of offerings including furniture\, home textiles\, décor accessories\, and smart home technologies. The show provides practical ideas for homeowners looking to upgrade their living spaces. \nOne of the key highlights is the presence of expert designers and architects who conduct live demonstrations and offer design consultations. Workshops and seminars cover topics such as space planning\, sustainable living\, and renovation strategies. \nThe event is highly beneficial for both industry professionals and homeowners. It serves as a platform for discovering new products\, gaining inspiration\, and connecting with experts in the field of interior design and architecture.
URL:https://thehomefashion.in/event/the-national-home-show-toronto-2026/
LOCATION:Enercare Centre\, Toronto\, Canada\, Canada
CATEGORIES:home decor,Interior Design
END:VEVENT
END:VCALENDAR