BEGIN:VCALENDAR
VERSION:2.0
PRODID:-//HOME FASHION TRENDS - ECPv6.15.20//NONSGML v1.0//EN
CALSCALE:GREGORIAN
METHOD:PUBLISH
X-WR-CALNAME:HOME FASHION TRENDS
X-ORIGINAL-URL:https://thehomefashion.in
X-WR-CALDESC:Events for HOME FASHION TRENDS
REFRESH-INTERVAL;VALUE=DURATION:PT1H
X-Robots-Tag:noindex
X-PUBLISHED-TTL:PT1H
BEGIN:VTIMEZONE
TZID:Asia/Kolkata
BEGIN:STANDARD
TZOFFSETFROM:+0530
TZOFFSETTO:+0530
TZNAME:IST
DTSTART:20250101T000000
END:STANDARD
END:VTIMEZONE
BEGIN:VEVENT
DTSTART;VALUE=DATE:20260929
DTEND;VALUE=DATE:20261003
DTSTAMP:20260423T200622
CREATED:20260319T121611Z
LAST-MODIFIED:20260319T121611Z
UID:62699-1790640000-1790985599@thehomefashion.in
SUMMARY:International Furniture & Decor Expo South America 2026
DESCRIPTION:International Furniture & Decor Expo South America showcases furniture\, home décor\, and interior design solutions. The event gathers manufacturers\, designers\, and retailers from across South America. Exhibitors present furniture collections\, decorative accessories\, and interior materials. Visitors explore innovative design concepts and modern living solutions. The exhibition highlights craftsmanship and production techniques. Designers attend to discover new collections and design trends. Educational sessions discuss furniture design and market trends. Networking opportunities connect suppliers with buyers. Product displays highlight innovation in furniture production. The event strengthens the furniture industry in the region.
URL:https://thehomefashion.in/event/international-furniture-decor-expo-south-america-2026/
LOCATION:Expo Center Norte\, São Paulo\, 02012-021\, Brazil
CATEGORIES:home decor
END:VEVENT
END:VCALENDAR