BEGIN:VCALENDAR
VERSION:2.0
PRODID:-//HOME FASHION TRENDS - ECPv6.15.13.1//NONSGML v1.0//EN
CALSCALE:GREGORIAN
METHOD:PUBLISH
X-WR-CALNAME:HOME FASHION TRENDS
X-ORIGINAL-URL:https://thehomefashion.in
X-WR-CALDESC:Events for HOME FASHION TRENDS
REFRESH-INTERVAL;VALUE=DURATION:PT1H
X-Robots-Tag:noindex
X-PUBLISHED-TTL:PT1H
BEGIN:VTIMEZONE
TZID:Asia/Kolkata
BEGIN:STANDARD
TZOFFSETFROM:+0530
TZOFFSETTO:+0530
TZNAME:IST
DTSTART:20250101T000000
END:STANDARD
END:VTIMEZONE
BEGIN:VEVENT
DTSTART;VALUE=DATE:20261015
DTEND;VALUE=DATE:20261018
DTSTAMP:20260421T182122
CREATED:20260331T164708Z
LAST-MODIFIED:20260331T164708Z
UID:64482-1792022400-1792281599@thehomefashion.in
SUMMARY:Sydney Home Show 2026
DESCRIPTION:Sydney Home Show 2026 is a consumer-focused exhibition showcasing home décor\, interior design\, and renovation solutions. The event gathers homeowners\, designers\, and suppliers. Exhibitors present furniture\, décor products\, and home improvement solutions. Visitors explore design ideas for residential spaces. The exhibition highlights innovation and practical solutions. Designers attend to showcase products and services. Educational sessions discuss renovation and design trends. Networking opportunities connect suppliers with consumers. Product displays highlight interior solutions. The event supports the home improvement sector.
URL:https://thehomefashion.in/event/sydney-home-show-2026-2/
LOCATION:ICC Sydney\, Sydney\, 2000\, Australia
CATEGORIES:home decor
END:VEVENT
END:VCALENDAR