BEGIN:VCALENDAR
VERSION:2.0
PRODID:-//HOME FASHION TRENDS - ECPv6.15.13.1//NONSGML v1.0//EN
CALSCALE:GREGORIAN
METHOD:PUBLISH
X-ORIGINAL-URL:https://thehomefashion.in
X-WR-CALDESC:Events for HOME FASHION TRENDS
REFRESH-INTERVAL;VALUE=DURATION:PT1H
X-Robots-Tag:noindex
X-PUBLISHED-TTL:PT1H
BEGIN:VTIMEZONE
TZID:Asia/Kolkata
BEGIN:STANDARD
TZOFFSETFROM:+0530
TZOFFSETTO:+0530
TZNAME:IST
DTSTART:20260101T000000
END:STANDARD
END:VTIMEZONE
BEGIN:VEVENT
DTSTART;VALUE=DATE:20270308
DTEND;VALUE=DATE:20270312
DTSTAMP:20260421T174154
CREATED:20260331T201614Z
LAST-MODIFIED:20260331T201614Z
UID:64605-1804464000-1804809599@thehomefashion.in
SUMMARY:Maison&Objet Asia Singapore 2027
DESCRIPTION:Maison&Objet Asia Singapore 2027 is a leading trade exhibition focused on interior design\, furniture\, and lifestyle products. The event gathers designers\, retailers\, and manufacturers from across Asia-Pacific. Exhibitors showcase furniture collections\, decorative accessories\, and interior solutions. Visitors explore contemporary design trends and market innovations. The exhibition highlights craftsmanship and premium materials. Designers attend to discover new collections and brands. Educational sessions discuss design and market trends. Networking opportunities connect suppliers with buyers. Product displays highlight creative interior solutions. The event strengthens regional design industries.
URL:https://thehomefashion.in/event/maisonobjet-asia-singapore-2027/
LOCATION:Marina Bay Sands Expo\, Singapore\, 018956\, Singapore
CATEGORIES:home decor
END:VEVENT
BEGIN:VEVENT
DTSTART;VALUE=DATE:20270310
DTEND;VALUE=DATE:20270314
DTSTAMP:20260421T174154
CREATED:20260319T134403Z
LAST-MODIFIED:20260319T134403Z
UID:62797-1804636800-1804982399@thehomefashion.in
SUMMARY:Collectible Design Fair Brussels 2027
DESCRIPTION:Collectible Design Fair Brussels 2027 is a curated exhibition dedicated to 21st-century collectible design. The event gathers galleries\, independent designers\, and studios presenting contemporary furniture and decorative objects. Exhibitors showcase limited-edition pieces that combine craftsmanship with experimental design. Visitors explore innovative materials and artistic approaches to interior design. The fair highlights emerging talents and cross-disciplinary design concepts. Designers attend to present exclusive collections and connect with collectors. Educational talks discuss design evolution and material experimentation. Networking opportunities connect galleries with buyers and curators. Product displays emphasize artistic expression in functional objects. The event plays a key role in contemporary collectible design.
URL:https://thehomefashion.in/event/collectible-design-fair-brussels-2027/
LOCATION:Vanderborght Building\, Brussels\, 1000\, Belgium
CATEGORIES:home decor
END:VEVENT
BEGIN:VEVENT
DTSTART;VALUE=DATE:20270310
DTEND;VALUE=DATE:20270314
DTSTAMP:20260421T174154
CREATED:20260331T151254Z
LAST-MODIFIED:20260331T151254Z
UID:64414-1804636800-1804982399@thehomefashion.in
SUMMARY:Collectible Design Fair Brussels 2027
DESCRIPTION:Collectible Design Fair Brussels 2027 showcases contemporary collectible furniture and design. The event gathers designers\, galleries\, and collectors. Exhibitors present limited-edition furniture and décor objects. Visitors explore innovative design concepts and craftsmanship. The exhibition highlights artistic design and material innovation. Designers attend to showcase experimental work. Educational sessions discuss design trends. Networking opportunities connect galleries with buyers. Product displays highlight creative design. The event supports contemporary design culture.
URL:https://thehomefashion.in/event/collectible-design-fair-brussels-2027-2/
LOCATION:Vanderborght Building\, Brussels\, 1000\, Belgium
CATEGORIES:home decor
END:VEVENT
BEGIN:VEVENT
DTSTART;VALUE=DATE:20270310
DTEND;VALUE=DATE:20270314
DTSTAMP:20260421T174154
CREATED:20260331T165907Z
LAST-MODIFIED:20260331T165907Z
UID:64497-1804636800-1804982399@thehomefashion.in
SUMMARY:Philippine International Furniture Show 2027
DESCRIPTION:Philippine International Furniture Show 2027 is a major trade event showcasing furniture and home décor products. The event gathers manufacturers\, designers\, and buyers from across Asia and global markets. Exhibitors present furniture collections\, decorative accessories\, and interior materials. Visitors explore innovative design concepts and craftsmanship. The exhibition highlights sustainable materials and traditional craftsmanship. Designers attend to discover new collections and trends. Educational sessions discuss furniture industry developments. Networking opportunities connect suppliers with buyers. Product displays highlight creative design solutions. The event supports the Philippines’ furniture export industry.
URL:https://thehomefashion.in/event/philippine-international-furniture-show-2027/
LOCATION:SMX Convention Center\, Manila
CATEGORIES:home decor
END:VEVENT
END:VCALENDAR