BEGIN:VCALENDAR
VERSION:2.0
PRODID:-//HOME FASHION TRENDS - ECPv6.15.20//NONSGML v1.0//EN
CALSCALE:GREGORIAN
METHOD:PUBLISH
X-WR-CALNAME:HOME FASHION TRENDS
X-ORIGINAL-URL:https://thehomefashion.in
X-WR-CALDESC:Events for HOME FASHION TRENDS
REFRESH-INTERVAL;VALUE=DURATION:PT1H
X-Robots-Tag:noindex
X-PUBLISHED-TTL:PT1H
BEGIN:VTIMEZONE
TZID:Asia/Kolkata
BEGIN:STANDARD
TZOFFSETFROM:+0530
TZOFFSETTO:+0530
TZNAME:IST
DTSTART:20260101T000000
END:STANDARD
END:VTIMEZONE
BEGIN:VEVENT
DTSTART;VALUE=DATE:20270320
DTEND;VALUE=DATE:20270323
DTSTAMP:20260423T203825
CREATED:20260324T084747Z
LAST-MODIFIED:20260324T084747Z
UID:63021-1805500800-1805759999@thehomefashion.in
SUMMARY:Australian Home & Lifestyle Expo 2027
DESCRIPTION:Australian Home & Lifestyle Expo 2027 showcases home décor\, furniture\, and lifestyle products. The event gathers designers\, retailers\, and manufacturers from across Australia. Exhibitors present decorative accessories\, furniture collections\, and interior solutions. Visitors explore modern living concepts and home styling ideas. The exhibition highlights craftsmanship and product innovation. Designers attend to discover new brands and collections. Educational sessions discuss interior trends and consumer preferences. Networking opportunities connect suppliers with buyers. Product displays highlight creative design solutions. The event contributes to the growth of home décor markets.
URL:https://thehomefashion.in/event/australian-home-lifestyle-expo-2027/
LOCATION:Brisbane Convention & Exhibition Centre\, Brisbane\, 4101\, Australia
CATEGORIES:home decor
END:VEVENT
BEGIN:VEVENT
DTSTART;VALUE=DATE:20270322
DTEND;VALUE=DATE:20270327
DTSTAMP:20260423T203825
CREATED:20260331T164515Z
LAST-MODIFIED:20260331T164515Z
UID:64478-1805673600-1806105599@thehomefashion.in
SUMMARY:Seoul Living Design Fair 2027
DESCRIPTION:Seoul Living Design Fair 2027 is a major exhibition focused on home décor\, interior design\, and lifestyle products. The event gathers designers\, manufacturers\, and retailers from across Asia. Exhibitors present furniture\, decorative accessories\, and interior solutions. Visitors explore modern living concepts and design trends. The exhibition highlights innovation and craftsmanship. Designers attend to discover new collections and brands. Educational sessions discuss design trends and consumer behavior. Networking opportunities connect suppliers with buyers. Product displays highlight creative design solutions. The event contributes to Asia’s design industry.
URL:https://thehomefashion.in/event/seoul-living-design-fair-2027/
LOCATION:COEX Convention Center\, Seoul\, 06164\, Korea\, Democratic People's Republic of
CATEGORIES:home decor
END:VEVENT
END:VCALENDAR