BEGIN:VCALENDAR
VERSION:2.0
PRODID:-//HOME FASHION TRENDS - ECPv6.15.20//NONSGML v1.0//EN
CALSCALE:GREGORIAN
METHOD:PUBLISH
X-WR-CALNAME:HOME FASHION TRENDS
X-ORIGINAL-URL:https://thehomefashion.in
X-WR-CALDESC:Events for HOME FASHION TRENDS
REFRESH-INTERVAL;VALUE=DURATION:PT1H
X-Robots-Tag:noindex
X-PUBLISHED-TTL:PT1H
BEGIN:VTIMEZONE
TZID:Asia/Kolkata
BEGIN:STANDARD
TZOFFSETFROM:+0530
TZOFFSETTO:+0530
TZNAME:IST
DTSTART:20260101T000000
END:STANDARD
END:VTIMEZONE
BEGIN:VEVENT
DTSTART;VALUE=DATE:20270705
DTEND;VALUE=DATE:20270709
DTSTAMP:20260426T050131
CREATED:20260324T091532Z
LAST-MODIFIED:20260324T091532Z
UID:63066-1814745600-1815091199@thehomefashion.in
SUMMARY:Asia Furniture & Interiors Expo 2027
DESCRIPTION:Asia Furniture & Interiors Expo 2027 showcases furniture and interior design products from across Asia. The event gathers manufacturers\, designers\, and buyers from global markets. Exhibitors present furniture collections\, decorative accessories\, and interior materials. Visitors explore modern design trends and innovative solutions. The exhibition highlights craftsmanship and production techniques. Designers attend to discover new collections and materials. Educational sessions discuss industry trends. Networking opportunities connect suppliers with buyers. Product displays highlight creative design solutions. The event strengthens Asia’s furniture industry.
URL:https://thehomefashion.in/event/asia-furniture-interiors-expo-2027/
LOCATION:Bangkok International Trade & Exhibition Centre (BITEC)\, Bangkok\, Thailand\, Bangkok\, Thailand
CATEGORIES:home decor
END:VEVENT
END:VCALENDAR