BEGIN:VCALENDAR
VERSION:2.0
PRODID:-//HOME FASHION TRENDS - ECPv6.15.20//NONSGML v1.0//EN
CALSCALE:GREGORIAN
METHOD:PUBLISH
X-WR-CALNAME:HOME FASHION TRENDS
X-ORIGINAL-URL:https://thehomefashion.in
X-WR-CALDESC:Events for HOME FASHION TRENDS
REFRESH-INTERVAL;VALUE=DURATION:PT1H
X-Robots-Tag:noindex
X-PUBLISHED-TTL:PT1H
BEGIN:VTIMEZONE
TZID:Asia/Kolkata
BEGIN:STANDARD
TZOFFSETFROM:+0530
TZOFFSETTO:+0530
TZNAME:IST
DTSTART:20260101T000000
END:STANDARD
END:VTIMEZONE
BEGIN:VEVENT
DTSTART;VALUE=DATE:20270817
DTEND;VALUE=DATE:20270821
DTSTAMP:20260426T044140
CREATED:20260331T142200Z
LAST-MODIFIED:20260331T142200Z
UID:64332-1818460800-1818806399@thehomefashion.in
SUMMARY:Formex Autumn 2027
DESCRIPTION:Formex Autumn 2027 is a leading Nordic trade fair focused on interior design\, home décor\, and lifestyle products. The event gathers designers\, retailers\, and manufacturers from across Scandinavia and international markets. Exhibitors present furniture\, decorative accessories\, textiles\, and interior products. Visitors explore seasonal design trends and innovative styling ideas. The exhibition highlights Scandinavian craftsmanship and sustainability. Designers attend to discover new collections and brands. Educational talks discuss consumer trends and design innovation. Networking opportunities connect suppliers with buyers. Product displays highlight creative home décor solutions. Formex remains a key platform for Nordic design.
URL:https://thehomefashion.in/event/formex-autumn-2027/
LOCATION:Stockholmsmässan\, Stockholm\, 12530\, Sweden
CATEGORIES:home decor
END:VEVENT
END:VCALENDAR