BEGIN:VCALENDAR
VERSION:2.0
PRODID:-//HOME FASHION TRENDS - ECPv6.15.20//NONSGML v1.0//EN
CALSCALE:GREGORIAN
METHOD:PUBLISH
X-WR-CALNAME:HOME FASHION TRENDS
X-ORIGINAL-URL:https://thehomefashion.in
X-WR-CALDESC:Events for HOME FASHION TRENDS
REFRESH-INTERVAL;VALUE=DURATION:PT1H
X-Robots-Tag:noindex
X-PUBLISHED-TTL:PT1H
BEGIN:VTIMEZONE
TZID:Asia/Kolkata
BEGIN:STANDARD
TZOFFSETFROM:+0530
TZOFFSETTO:+0530
TZNAME:IST
DTSTART:20260101T000000
END:STANDARD
END:VTIMEZONE
BEGIN:VEVENT
DTSTART;VALUE=DATE:20270826
DTEND;VALUE=DATE:20270830
DTSTAMP:20260426T092707
CREATED:20260331T142525Z
LAST-MODIFIED:20260331T142525Z
UID:64346-1819238400-1819583999@thehomefashion.in
SUMMARY:Tendence Frankfurt 2027
DESCRIPTION:Tendence Frankfurt 2027 is an international consumer goods and interior design fair focusing on home décor and lifestyle products. The event gathers retailers\, designers\, and manufacturers. Exhibitors present decorative accessories\, furniture\, and home products. Visitors explore seasonal trends and interior styling concepts. The exhibition highlights innovation and product design. Designers attend to discover new collections and materials. Educational sessions discuss retail and design trends. Networking opportunities connect suppliers with buyers. Product displays highlight creative solutions. The event supports the home décor retail sector.
URL:https://thehomefashion.in/event/tendence-frankfurt-2027/
LOCATION:Messe Frankfurt\, Frankfurt\, 60327\, Germany
CATEGORIES:home decor
END:VEVENT
END:VCALENDAR