BEGIN:VCALENDAR
VERSION:2.0
PRODID:-//HOME FASHION TRENDS - ECPv6.15.20//NONSGML v1.0//EN
CALSCALE:GREGORIAN
METHOD:PUBLISH
X-ORIGINAL-URL:https://thehomefashion.in
X-WR-CALDESC:Events for HOME FASHION TRENDS
REFRESH-INTERVAL;VALUE=DURATION:PT1H
X-Robots-Tag:noindex
X-PUBLISHED-TTL:PT1H
BEGIN:VTIMEZONE
TZID:Asia/Kolkata
BEGIN:STANDARD
TZOFFSETFROM:+0530
TZOFFSETTO:+0530
TZNAME:IST
DTSTART:20250101T000000
END:STANDARD
END:VTIMEZONE
BEGIN:VEVENT
DTSTART;TZID=Asia/Kolkata:20260322T080000
DTEND;TZID=Asia/Kolkata:20260325T170000
DTSTAMP:20260426T025522
CREATED:20260322T142400Z
LAST-MODIFIED:20260322T142400Z
UID:62924-1774166400-1774458000@thehomefashion.in
SUMMARY:Whiteswan Art Festival 2026
DESCRIPTION:The Whiteswan Art Festival 2026 is a unique cultural and design-focused event that blends art\, sustainability\, and community engagement. Hosted in Lucknow\, the festival promotes themes of responsible art\, eco-conscious living\, and cultural harmony. It features a variety of installations\, exhibitions\, and creative workshops that highlight the role of design and art in shaping a sustainable future. \nThe event includes live art sessions\, collaborative painting projects\, and interactive workshops for participants of all age groups. A major highlight is the collective creation of a large “Unity & Peace” artwork\, bringing together artists\, students\, and families. \nThe festival also incorporates elements of interior and decorative design through artistic installations and curated displays. It promotes sustainable materials and ethical production practices\, making it relevant for professionals in home décor and design industries. \nOverall\, the Whiteswan Art Festival serves as an inspiring platform for creativity\, social impact\, and cultural exchange.
URL:https://thehomefashion.in/event/whiteswan-art-festival-2026/
LOCATION:Lucknow\, Uttar Pradesh\, India\, India
CATEGORIES:handicraft,home decor,Interior Design
END:VEVENT
END:VCALENDAR