BEGIN:VCALENDAR
VERSION:2.0
PRODID:-//HOME FASHION TRENDS - ECPv6.15.20//NONSGML v1.0//EN
CALSCALE:GREGORIAN
METHOD:PUBLISH
X-WR-CALNAME:HOME FASHION TRENDS
X-ORIGINAL-URL:https://thehomefashion.in
X-WR-CALDESC:Events for HOME FASHION TRENDS
REFRESH-INTERVAL;VALUE=DURATION:PT1H
X-Robots-Tag:noindex
X-PUBLISHED-TTL:PT1H
BEGIN:VTIMEZONE
TZID:Asia/Kolkata
BEGIN:STANDARD
TZOFFSETFROM:+0530
TZOFFSETTO:+0530
TZNAME:IST
DTSTART:20250101T000000
END:STANDARD
END:VTIMEZONE
BEGIN:VEVENT
DTSTART;TZID=Asia/Kolkata:20260510T080000
DTEND;TZID=Asia/Kolkata:20260512T170000
DTSTAMP:20260426T055043
CREATED:20260331T155336Z
LAST-MODIFIED:20260331T155336Z
UID:64441-1778400000-1778605200@thehomefashion.in
SUMMARY:The INDEX Saudi 2026 – Interior Design & Furniture Exhibition
DESCRIPTION:INDEX Saudi 2026 is one of the leading interior design and furniture exhibitions in the Middle East\, held in Riyadh\, Saudi Arabia. The event attracts architects\, interior designers\, hospitality professionals\, and retailers who are interested in exploring innovative products and design solutions for modern interiors. \nThe exhibition features a wide range of products including furniture\, lighting\, textiles\, decorative accessories\, flooring materials\, and interior finishes. Exhibitors showcase both contemporary and traditional designs that reflect regional and global trends in interior design. Many brands highlight luxury interiors and smart living solutions tailored for residential and commercial spaces. \nThe event also includes conferences and panel discussions where industry experts share insights into design trends\, sustainability\, and the future of interior spaces. These sessions provide valuable knowledge for professionals working in architecture and interior design. \nINDEX Saudi also serves as a networking platform where designers\, suppliers\, and developers can connect and explore business opportunities. By combining innovation\, creativity\, and industry expertise\, the event plays a key role in shaping the interior design landscape in the Middle East.
URL:https://thehomefashion.in/event/the-index-saudi-2026-interior-design-furniture-exhibition/
LOCATION:Riyadh Front Exhibition & Conference Center\, Riyadh\, Saudi Arabia\, Saudi Arabia
CATEGORIES:Interior Design
END:VEVENT
BEGIN:VEVENT
DTSTART;TZID=Asia/Kolkata:20260525T080000
DTEND;TZID=Asia/Kolkata:20260527T170000
DTSTAMP:20260426T055043
CREATED:20260331T160018Z
LAST-MODIFIED:20260331T160018Z
UID:64450-1779696000-1779901200@thehomefashion.in
SUMMARY:Interiors & Furniture Show Jeddah 2026
DESCRIPTION:Interiors & Furniture Show Jeddah 2026 is a prominent exhibition dedicated to interior design\, furniture\, and home décor solutions in Saudi Arabia. The event brings together architects\, interior designers\, developers\, and retailers who are interested in exploring modern design concepts and innovative furnishing products. \nThe exhibition features a wide range of products including residential and commercial furniture\, decorative accessories\, lighting systems\, textiles\, and interior finishing materials. Exhibitors present both contemporary and traditional designs\, reflecting regional styles as well as global trends in interior décor. Many brands also showcase luxury furnishings and smart living solutions tailored for modern lifestyles. \nThe event includes design talks and industry discussions where experts share insights into interior design trends\, sustainability\, and evolving consumer preferences. These sessions provide valuable knowledge for professionals working on residential\, hospitality\, and commercial projects. \nInteriors & Furniture Show Jeddah also offers networking opportunities where designers and suppliers can connect and explore business collaborations. By combining innovation\, creativity\, and market insights\, the event plays an important role in shaping the interior design industry in the Middle East.
URL:https://thehomefashion.in/event/interiors-furniture-show-jeddah-2026/
LOCATION:Jeddah Superdome\, Jeddah\, Saudi Arabia\, Saudi Arabia
CATEGORIES:home decor
END:VEVENT
BEGIN:VEVENT
DTSTART;TZID=Asia/Kolkata:20260528T080000
DTEND;TZID=Asia/Kolkata:20260731T170000
DTSTAMP:20260426T055043
CREATED:20260331T155743Z
LAST-MODIFIED:20260331T155743Z
UID:64447-1779955200-1785517200@thehomefashion.in
SUMMARY:Furnitech Africa 2026 – Furniture Manufacturing & Interior Expo
DESCRIPTION:Furnitech Africa 2026 is a leading trade exhibition focused on furniture manufacturing technologies\, woodworking machinery\, and interior material solutions. Held alongside major industry events in Egypt\, it attracts manufacturers\, designers\, architects\, and suppliers from across Africa\, the Middle East\, and international markets. The exhibition serves as a key platform for exploring innovations that drive efficiency and creativity in furniture production and interior design. \nVisitors can discover a wide range of products including woodworking machinery\, cutting tools\, hardware fittings\, decorative laminates\, panels\, adhesives\, and upholstery materials. Many exhibitors showcase advanced technologies that improve production precision\, reduce waste\, and enhance sustainability. The event also highlights eco-friendly materials and responsible manufacturing practices that align with global design trends. \nIn addition to product displays\, Furnitech Africa features technical seminars and industry discussions where experts share insights into automation\, digital manufacturing\, and market developments. Architects and designers attend to explore new materials that can elevate both functionality and aesthetics in interior spaces. \nThe event provides valuable networking opportunities for professionals seeking partnerships and sourcing solutions. By combining technology\, innovation\, and design\, Furnitech Africa continues to support the growth of the furniture and interior design industries in the region.
URL:https://thehomefashion.in/event/furnitech-africa-2026-furniture-manufacturing-interior-expo/
LOCATION:Cairo International Convention Centre\, Cairo\, Egypt\, Egypt
CATEGORIES:Architecture,Interior Design
END:VEVENT
END:VCALENDAR