BEGIN:VCALENDAR
VERSION:2.0
PRODID:-//HOME FASHION TRENDS - ECPv6.15.13.1//NONSGML v1.0//EN
CALSCALE:GREGORIAN
METHOD:PUBLISH
X-ORIGINAL-URL:https://thehomefashion.in
X-WR-CALDESC:Events for HOME FASHION TRENDS
REFRESH-INTERVAL;VALUE=DURATION:PT1H
X-Robots-Tag:noindex
X-PUBLISHED-TTL:PT1H
BEGIN:VTIMEZONE
TZID:Asia/Kolkata
BEGIN:STANDARD
TZOFFSETFROM:+0530
TZOFFSETTO:+0530
TZNAME:IST
DTSTART:20250101T000000
END:STANDARD
END:VTIMEZONE
BEGIN:VEVENT
DTSTART;VALUE=DATE:20260306
DTEND;VALUE=DATE:20260309
DTSTAMP:20260423T003559
CREATED:20260305T121438Z
LAST-MODIFIED:20260305T173618Z
UID:61361-1772755200-1773014399@thehomefashion.in
SUMMARY:INSIDE - 2026
DESCRIPTION:Creating a warm\, comfortable\, and visually appealing home begins with careful attention to interior design. Elements such as textures\, materials\, and color palettes play a crucial role in bringing different aspects of a home together\, creating a cohesive and harmonious living environment. This sense of balance not only enhances the aesthetic appeal of a space but also contributes to personal well-being\, allowing residents to feel relaxed and enjoy a comfortable home atmosphere. \nInterior design often reflects individual lifestyles\, tastes\, and priorities. The process of designing and maintaining a home—along with exploring distinctive and meaningful style elements—has become an engaging activity for many homeowners and an enjoyable hobby that allows individuals to express creativity through their living spaces. \nThemes of the Interior Exhibition – INSIDE 2026 \n\nHome textiles including textiles\, curtains\, bedding\, mattresses\, pillows\, and blankets.\n\nFrequency \n\nAnnual event\n\nAudience \n\nBuyers\nWholesalers and dealers\nManufacturers\nCorporate decision-makers\nMarketing professionals\nMedia representatives
URL:https://thehomefashion.in/event/inside-2026/
LOCATION:VMU Agriculture Academy Exhibition Pavilions\, Kaunas\, 53361\, Lithuania
CATEGORIES:home fashion,home textiles,HomeInterirorDesigingExpo
ATTACH;FMTTYPE=image/webp:https://thehomefashion.in/wp-content/uploads/2026/03/INSIDE-2026.webp
END:VEVENT
END:VCALENDAR