BEGIN:VCALENDAR
VERSION:2.0
PRODID:-//HOME FASHION TRENDS - ECPv6.15.20//NONSGML v1.0//EN
CALSCALE:GREGORIAN
METHOD:PUBLISH
X-ORIGINAL-URL:https://thehomefashion.in
X-WR-CALDESC:Events for HOME FASHION TRENDS
REFRESH-INTERVAL;VALUE=DURATION:PT1H
X-Robots-Tag:noindex
X-PUBLISHED-TTL:PT1H
BEGIN:VTIMEZONE
TZID:Asia/Kolkata
BEGIN:STANDARD
TZOFFSETFROM:+0530
TZOFFSETTO:+0530
TZNAME:IST
DTSTART:20250101T000000
END:STANDARD
END:VTIMEZONE
BEGIN:VEVENT
DTSTART;VALUE=DATE:20260311
DTEND;VALUE=DATE:20260314
DTSTAMP:20260425T010243
CREATED:20260306T085731Z
LAST-MODIFIED:20260306T085749Z
UID:61492-1773187200-1773446399@thehomefashion.in
SUMMARY:Intertextile Shanghai Home Textiles - Spring Edition 2026
DESCRIPTION:Intertextile Shanghai Home Textiles – Spring Edition 2026 \nEvent Summary\nIntertextile Shanghai Home Textiles (ITSH) – Spring Edition is one of Asia’s most influential trade fairs dedicated to the home textiles industry. Scheduled to take place from 11–13 March 2026 at the National Exhibition and Convention Center (NECC)\, Shanghai\, China\, the event provides a comprehensive platform for global industry professionals to connect\, source products\, and explore the latest market trends. \nOrganized by Messe Frankfurt (HK) Ltd\, in collaboration with the Sub-Council of Textile Industry\, CCPIT\, and the China Home Textile Association\, the exhibition attracts participants from across the international textile supply chain. With carefully structured product zones and engaging side programs\, the event encourages innovation\, collaboration\, and knowledge exchange among exhibitors and visitors. \nThe previous edition welcomed over 370 exhibitors and more than 25\,000 visitors\, reinforcing its reputation as a leading marketplace for home textile sourcing and industry insights in Asia. \nThe exhibition covers a wide range of product categories including bedding\, loungewear and bath textiles\, curtains and curtain fabrics\, sun protection systems\, upholstery and sofa fabrics\, wall coverings\, leather\, flooring\, accessories\, interior décor (non-textile)\, design and technical solutions\, whole-home concepts\, editorial design\, and contract business solutions. \nEvent Details \n\nDate: 11 – 13 March 2026\nTime: 9:00 AM – 6:00 PM\nVenue: National Exhibition and Convention Center (NECC)\, Shanghai\, China\nAccess: Open to trade visitors\n\nFrequency \n\nBi-annually (twice a year)\n\nAudience \n\nBuyers\nWholesalers and dealers\nManufacturers\nCorporate decision-makers\nMarketing professionals\nMedia representatives\n\nCategory Tags\nHome Textiles | Home Decor | Interior Design \nHashtags\n####InteriorDesign #TextileIndustry ##GlobalTextiles #DesignTrends #InteriorTextiles #
URL:https://thehomefashion.in/event/intertextile-shanghai-home-textiles-spring-edition-2026/
LOCATION:National Exhibition and Convention Center\, Shanghai\, 201106\, China
CATEGORIES:home fashion,home textiles,HomeInterirorDesigingExpo
ATTACH;FMTTYPE=image/webp:https://thehomefashion.in/wp-content/uploads/2026/03/New-Project-2025-12-03T160951.850.webp
END:VEVENT
BEGIN:VEVENT
DTSTART;VALUE=DATE:20260312
DTEND;VALUE=DATE:20260315
DTSTAMP:20260425T010243
CREATED:20260306T083735Z
LAST-MODIFIED:20260306T083735Z
UID:61484-1773273600-1773532799@thehomefashion.in
SUMMARY:Quilt\, Craft & Sewing Festival 2026 – Sacramento
DESCRIPTION:Quilt\, Craft & Sewing Festival 2026 – Sacramento is a comprehensive event dedicated to the quilting\, sewing\, and craft industries. The festival brings together fabric suppliers\, craft businesses\, sewing equipment manufacturers\, artisans\, and hobbyists to explore the latest products\, materials\, and creative techniques. Exhibitors showcase a wide variety of fabrics\, quilting materials\, sewing machines\, handcrafted décor items\, and textile-based craft supplies relevant to home décor and home textile applications. \nThe event also features interactive classes and workshops covering topics from basic sewing techniques to advanced quilting methods\, allowing participants to enhance their skills and creativity. With opportunities to connect with suppliers\, discover new products\, and learn from industry experts\, the festival serves as an important platform for innovation and collaboration in the handicraft\, handloom\, and home textile design sectors.
URL:https://thehomefashion.in/event/quilt-craft-sewing-festival-2026-sacramento/
LOCATION:California Exposition and State Fair (Cal Expo)\, Sacramento\, United States
CATEGORIES:event updates,home textiles
ATTACH;FMTTYPE=image/jpeg:https://thehomefashion.in/wp-content/uploads/2026/03/700x515-ad.jpg
END:VEVENT
END:VCALENDAR