BEGIN:VCALENDAR
VERSION:2.0
PRODID:-//HOME FASHION TRENDS - ECPv6.15.20//NONSGML v1.0//EN
CALSCALE:GREGORIAN
METHOD:PUBLISH
X-WR-CALNAME:HOME FASHION TRENDS
X-ORIGINAL-URL:https://thehomefashion.in
X-WR-CALDESC:Events for HOME FASHION TRENDS
REFRESH-INTERVAL;VALUE=DURATION:PT1H
X-Robots-Tag:noindex
X-PUBLISHED-TTL:PT1H
BEGIN:VTIMEZONE
TZID:Asia/Kolkata
BEGIN:STANDARD
TZOFFSETFROM:+0530
TZOFFSETTO:+0530
TZNAME:IST
DTSTART:20240101T000000
END:STANDARD
END:VTIMEZONE
BEGIN:VEVENT
DTSTART;TZID=Asia/Kolkata:20250917T173000
DTEND;TZID=Asia/Kolkata:20250917T203000
DTSTAMP:20260423T202423
CREATED:20250728T090400Z
LAST-MODIFIED:20250728T090622Z
UID:54446-1758130200-1758141000@thehomefashion.in
SUMMARY:HFPA\, HTT to Host 2025 Home Excellence Awards in NYC
DESCRIPTION:The Home Fashion Product Association (HFPA) and Home Textiles Today (HTT) are partnering once again to present a distinguished evening that brings together education\, celebration\, and industry recognition. The HFPA Foundation Scholarship Fundraiser and 2025 Home Excellence Awards will be on 17 september\,2025. \nThis exclusive two-hour event is designed to serve a dual purpose. Firstly\, it supports the HFPA Foundation’s scholarship initiative\, which provides financial assistance to students pursuing careers in Textile Surface Design (TSD) and Home Products Development (HPD) at the Fashion Institute of Technology (FIT) and Thomas Jefferson University (TJU). \nSecondly\, the gathering will honor leading brands and individuals during the presentation of the 2025 Home Excellence Awards — a benchmark of outstanding achievement across both retail and wholesale sectors of the home fashion industry. The awards have previously recognized esteemed names such as Bloomingdale’s\, Big Lots\, Boll & Branch\, Casper\, Malouf\, Revman\, Trident\, Pegasus\, Wayfair\, Welspun\, and WestPoint Home. \nGuests attending the event will enjoy an evening of cocktails\, hors d’oeuvres\, and networking\, while meeting the next generation of talent from FIT and TJU’s home fashion programs. The awards ceremony will celebrate the industry’s innovation\, leadership\, and dedication to excellence\, reinforcing a shared commitment to both education and performance. \nThis highly anticipated event provides an opportunity for brands\, retailers\, educators\, and students to connect and support the continued growth and vitality of the home textiles and fashion industry. \n 
URL:https://thehomefashion.in/event/hfpa-htt-to-host-2025-home-excellence-awards-in-nyc/
LOCATION:Harvard Club of New York City 35 West 44th Street New York\, NY 10036\, American Samoa
CATEGORIES:home textiles
ATTACH;FMTTYPE=image/png:https://thehomefashion.in/wp-content/uploads/2025/07/HFT-123-53-3.png
END:VEVENT
END:VCALENDAR