BEGIN:VCALENDAR
VERSION:2.0
PRODID:-//HOME FASHION TRENDS - ECPv6.15.13.1//NONSGML v1.0//EN
CALSCALE:GREGORIAN
METHOD:PUBLISH
X-ORIGINAL-URL:https://thehomefashion.in
X-WR-CALDESC:Events for HOME FASHION TRENDS
REFRESH-INTERVAL;VALUE=DURATION:PT1H
X-Robots-Tag:noindex
X-PUBLISHED-TTL:PT1H
BEGIN:VTIMEZONE
TZID:Asia/Kolkata
BEGIN:STANDARD
TZOFFSETFROM:+0530
TZOFFSETTO:+0530
TZNAME:IST
DTSTART:20250101T000000
END:STANDARD
END:VTIMEZONE
BEGIN:VEVENT
DTSTART;TZID=Asia/Kolkata:20260411T080000
DTEND;TZID=Asia/Kolkata:20260412T170000
DTSTAMP:20260422T230208
CREATED:20260325T025644Z
LAST-MODIFIED:20260325T025644Z
UID:63300-1775894400-1776013200@thehomefashion.in
SUMMARY:International Contemporary Furniture Fair (ICFF)
DESCRIPTION:ICFF Spring Preview 2026 showcases contemporary furniture and interior design concepts. \nThe event highlights modern design and innovation. \nIt attracts designers and brands. \nIt serves as a preview platform.
URL:https://thehomefashion.in/event/international-contemporary-furniture-fair-icff/
LOCATION:New York\, USA\, United States
CATEGORIES:home decor,Interior Design
END:VEVENT
END:VCALENDAR