BEGIN:VCALENDAR
VERSION:2.0
PRODID:-//HOME FASHION TRENDS - ECPv6.15.20//NONSGML v1.0//EN
CALSCALE:GREGORIAN
METHOD:PUBLISH
X-ORIGINAL-URL:https://thehomefashion.in
X-WR-CALDESC:Events for HOME FASHION TRENDS
REFRESH-INTERVAL;VALUE=DURATION:PT1H
X-Robots-Tag:noindex
X-PUBLISHED-TTL:PT1H
BEGIN:VTIMEZONE
TZID:Asia/Kolkata
BEGIN:STANDARD
TZOFFSETFROM:+0530
TZOFFSETTO:+0530
TZNAME:IST
DTSTART:20250101T000000
END:STANDARD
END:VTIMEZONE
BEGIN:VEVENT
DTSTART;VALUE=DATE:20261017
DTEND;VALUE=DATE:20261026
DTSTAMP:20260426T074553
CREATED:20260331T173258Z
LAST-MODIFIED:20260331T173258Z
UID:64553-1792195200-1792972799@thehomefashion.in
SUMMARY:Dutch Design Week 2026
DESCRIPTION:Dutch Design Week 2026 is one of Europe’s largest design festivals focusing on innovation and creativity. The event gathers designers\, artists\, and creative professionals. Exhibitions feature furniture\, interior design\, and experimental projects. Visitors explore future design concepts and technologies. The event highlights sustainability and innovation. Designers attend to showcase projects and ideas. Educational talks discuss design trends and development. Networking opportunities connect designers with industry professionals. Installations highlight creative experimentation. The event promotes global design culture.
URL:https://thehomefashion.in/event/dutch-design-week-2026-2/
LOCATION:Various Locations\, Paris\, 75001\, France
CATEGORIES:Interior Design
END:VEVENT
BEGIN:VEVENT
DTSTART;VALUE=DATE:20261028
DTEND;VALUE=DATE:20261101
DTSTAMP:20260426T074553
CREATED:20260319T122307Z
LAST-MODIFIED:20260319T122307Z
UID:62713-1793145600-1793491199@thehomefashion.in
SUMMARY:International Home Innovation Expo 2026
DESCRIPTION:International Home Innovation Expo 2026 focuses on modern home design and innovative interior solutions. The event gathers designers\, architects\, and manufacturers from across international markets. Exhibitors present smart home technologies\, furniture\, decorative materials\, and interior solutions. Visitors explore innovative living concepts and design trends. The exhibition highlights sustainability and digital technologies in home design. Designers attend to discover new products and ideas. Educational sessions discuss future trends in home innovation. Networking opportunities connect suppliers with buyers. Product demonstrations showcase cutting-edge technologies. The expo contributes to the evolution of modern interiors.
URL:https://thehomefashion.in/event/international-home-innovation-expo-2026/
LOCATION:Hong Kong Convention & Exhibition Centre\, Hong Kong\, 999077\, China
CATEGORIES:home decor
END:VEVENT
END:VCALENDAR