BEGIN:VCALENDAR
VERSION:2.0
PRODID:-//HOME FASHION TRENDS - ECPv6.15.20//NONSGML v1.0//EN
CALSCALE:GREGORIAN
METHOD:PUBLISH
X-ORIGINAL-URL:https://thehomefashion.in
X-WR-CALDESC:Events for HOME FASHION TRENDS
REFRESH-INTERVAL;VALUE=DURATION:PT1H
X-Robots-Tag:noindex
X-PUBLISHED-TTL:PT1H
BEGIN:VTIMEZONE
TZID:Asia/Kolkata
BEGIN:STANDARD
TZOFFSETFROM:+0530
TZOFFSETTO:+0530
TZNAME:IST
DTSTART:20250101T000000
END:STANDARD
END:VTIMEZONE
BEGIN:VEVENT
DTSTART;TZID=Asia/Kolkata:20260407T080000
DTEND;TZID=Asia/Kolkata:20260512T170000
DTSTAMP:20260425T183708
CREATED:20260331T075947Z
LAST-MODIFIED:20260331T075947Z
UID:64261-1775548800-1778605200@thehomefashion.in
SUMMARY:Salone del Mobile Milano 2026 – International Furniture Fair
DESCRIPTION:Salone del Mobile Milano 2026 is the world’s most prestigious furniture and interior design exhibition\, held annually in Milan\, Italy. Recognized as a global benchmark for innovation and creativity in the design industry\, the event brings together leading furniture brands\, designers\, architects\, and design enthusiasts from across the world. It serves as a platform where cutting-edge design concepts\, luxury interiors\, and advanced materials are showcased to a global audience. \nThe exhibition features a wide range of products including contemporary and classic furniture\, lighting solutions\, home décor accessories\, kitchen designs\, and interior furnishings. Many internationally renowned brands launch their latest collections during the event\, making it a key destination for discovering upcoming trends in interior design. The fair also emphasizes sustainability\, with exhibitors presenting eco-friendly materials and innovative production techniques. \nAlongside the exhibition\, the event hosts design talks\, workshops\, and installations that explore themes such as smart living\, urban design\, and the future of interior spaces. Designers and architects attend to gain inspiration and establish global collaborations. \nSalone del Mobile Milano continues to influence the global design industry by setting trends and promoting creativity\, making it an essential event for professionals in furniture\, interior design\, and architecture.
URL:https://thehomefashion.in/event/salone-del-mobile-milano-2026-international-furniture-fair/
LOCATION:Fiera Milano\, Milan\, Italy\, Italy
CATEGORIES:home decor
END:VEVENT
BEGIN:VEVENT
DTSTART;TZID=Asia/Kolkata:20260423T080000
DTEND;TZID=Asia/Kolkata:20260426T170000
DTSTAMP:20260425T183708
CREATED:20260331T141900Z
LAST-MODIFIED:20260331T142011Z
UID:64325-1776931200-1777222800@thehomefashion.in
SUMMARY:Decorex Cape Town 2026 – Home Décor & Design Exhibition
DESCRIPTION:Decorex Cape Town 2026 is one of Africa’s premier exhibitions dedicated to home décor\, interior design\, and lifestyle innovation. The event attracts designers\, architects\, homeowners\, and décor enthusiasts who are interested in exploring the latest trends in residential interiors and home styling. \nThe exhibition features a wide range of products including furniture\, decorative accessories\, lighting\, textiles\, kitchen design solutions\, and smart home technologies. Exhibitors present innovative products that combine aesthetics with functionality\, offering inspiration for modern living spaces. Many brands also focus on sustainable materials and eco-friendly design practices that align with global trends in responsible living. \nThe event includes a series of design talks\, workshops\, and live demonstrations where industry experts share insights into interior styling\, space planning\, and emerging design trends. Visitors can gain practical knowledge and inspiration for transforming their homes. \nDecorex Cape Town also provides networking opportunities where designers\, suppliers\, and buyers can connect and explore collaboration opportunities. By showcasing creative design solutions and innovative products\, the event continues to play a key role in shaping the home décor and interior design industry in Africa.
URL:https://thehomefashion.in/event/decorex-cape-town-2026-home-decor-design-exhibition/
LOCATION:Cape Town International Convention Centre\, Cape Town\, South Africa\, South Africa
CATEGORIES:home decor,Interior Design
END:VEVENT
END:VCALENDAR