BEGIN:VCALENDAR
VERSION:2.0
PRODID:-//HOME FASHION TRENDS - ECPv6.15.20//NONSGML v1.0//EN
CALSCALE:GREGORIAN
METHOD:PUBLISH
X-WR-CALNAME:HOME FASHION TRENDS
X-ORIGINAL-URL:https://thehomefashion.in
X-WR-CALDESC:Events for HOME FASHION TRENDS
REFRESH-INTERVAL;VALUE=DURATION:PT1H
X-Robots-Tag:noindex
X-PUBLISHED-TTL:PT1H
BEGIN:VTIMEZONE
TZID:Asia/Kolkata
BEGIN:STANDARD
TZOFFSETFROM:+0530
TZOFFSETTO:+0530
TZNAME:IST
DTSTART:20250101T000000
END:STANDARD
END:VTIMEZONE
BEGIN:VEVENT
DTSTART;TZID=Asia/Kolkata:20260310T080000
DTEND;TZID=Asia/Kolkata:20260312T170000
DTSTAMP:20260426T085756
CREATED:20260309T052851Z
LAST-MODIFIED:20260309T052851Z
UID:61683-1773129600-1773334800@thehomefashion.in
SUMMARY:European Textile & Flooring Expo 2026
DESCRIPTION:The European Textile & Flooring Expo 2026 is a specialized trade exhibition focusing on textiles\, carpets\, flooring materials\, and interior furnishing solutions. The event attracts manufacturers\, architects\, interior designers\, and construction professionals who are interested in exploring new materials and technologies used in modern interior spaces. \nExhibitors showcase a broad range of products including decorative carpets\, rugs\, upholstery fabrics\, flooring systems\, wall coverings\, and textile-based interior solutions. Many brands present innovative materials designed to enhance comfort\, durability\, and aesthetics in residential and commercial environments. Sustainable materials and eco-friendly production processes are also a key focus of the event. \nThe expo features educational sessions and industry seminars where experts discuss emerging design trends\, sustainable flooring solutions\, and new textile technologies. Architects and designers attend these sessions to gain insights into materials that can improve the functionality and visual appeal of interior spaces. \nThe exhibition also provides networking opportunities where suppliers\, designers\, and project developers can build partnerships and explore new business opportunities. By combining textile innovation with interior design solutions\, the European Textile & Flooring Expo serves as an important meeting point for professionals involved in the global furnishing and interior design industries.
URL:https://thehomefashion.in/event/european-textile-flooring-expo-2026/
LOCATION:Messe Frankfurt Exhibition Centre\, Frankfurt\, Germany\, Germany
CATEGORIES:home textiles
END:VEVENT
END:VCALENDAR